BEGIN:VCALENDAR
VERSION:2.0
PRODID:-//Catalyst Ranch - ECPv6.15.17.1//NONSGML v1.0//EN
CALSCALE:GREGORIAN
METHOD:PUBLISH
X-WR-CALNAME:Catalyst Ranch
X-ORIGINAL-URL:https://playground.catalystranch.com
X-WR-CALDESC:Events for Catalyst Ranch
REFRESH-INTERVAL;VALUE=DURATION:PT1H
X-Robots-Tag:noindex
X-PUBLISHED-TTL:PT1H
BEGIN:VTIMEZONE
TZID:America/Chicago
BEGIN:DAYLIGHT
TZOFFSETFROM:-0600
TZOFFSETTO:-0500
TZNAME:CDT
DTSTART:20220313T080000
END:DAYLIGHT
BEGIN:STANDARD
TZOFFSETFROM:-0500
TZOFFSETTO:-0600
TZNAME:CST
DTSTART:20221106T070000
END:STANDARD
BEGIN:DAYLIGHT
TZOFFSETFROM:-0600
TZOFFSETTO:-0500
TZNAME:CDT
DTSTART:20230312T080000
END:DAYLIGHT
BEGIN:STANDARD
TZOFFSETFROM:-0500
TZOFFSETTO:-0600
TZNAME:CST
DTSTART:20231105T070000
END:STANDARD
BEGIN:DAYLIGHT
TZOFFSETFROM:-0600
TZOFFSETTO:-0500
TZNAME:CDT
DTSTART:20240310T080000
END:DAYLIGHT
BEGIN:STANDARD
TZOFFSETFROM:-0500
TZOFFSETTO:-0600
TZNAME:CST
DTSTART:20241103T070000
END:STANDARD
END:VTIMEZONE
BEGIN:VEVENT
DTSTART;TZID=America/Chicago:20230617T190000
DTEND;TZID=America/Chicago:20230617T220000
DTSTAMP:20260423T024928
CREATED:20230615T001450Z
LAST-MODIFIED:20230615T001627Z
UID:31241-1687028400-1687039200@playground.catalystranch.com
SUMMARY:Drag Variety Show
DESCRIPTION:Drag Variety Show\nHosted by Koda Pendants\nChicago drag performer Koda Pendants hosts a BYOB evening of drag performances with a themed runway. \n			\n				\n				\n				\n				\n				\n\nDoors open 7 pm. Show begins around 7:30 pm. Variety show will feature creative drag artists flaunting their queer talents. Runway category is The Future is Queer! \nThis is a public\, BYOB event. \n$10 cover\, tipping encouraged
URL:https://playground.catalystranch.com/event/drag-variety-show/
LOCATION:Catalyst Ranch\,  656 W Randolph St\, Chicago\, IL\, 60661\, United States
CATEGORIES:Variety Show
ATTACH;FMTTYPE=image/png:https://playground.catalystranch.com/wp-content/uploads/2023/06/koda-drag-june-17-2023-a-e1686788067614.png
END:VEVENT
END:VCALENDAR