BEGIN:VCALENDAR
VERSION:2.0
PRODID:-//Catalyst Ranch - ECPv6.15.17.1//NONSGML v1.0//EN
CALSCALE:GREGORIAN
METHOD:PUBLISH
X-WR-CALNAME:Catalyst Ranch
X-ORIGINAL-URL:https://playground.catalystranch.com
X-WR-CALDESC:Events for Catalyst Ranch
REFRESH-INTERVAL;VALUE=DURATION:PT1H
X-Robots-Tag:noindex
X-PUBLISHED-TTL:PT1H
BEGIN:VTIMEZONE
TZID:America/Chicago
BEGIN:DAYLIGHT
TZOFFSETFROM:-0600
TZOFFSETTO:-0500
TZNAME:CDT
DTSTART:20180311T080000
END:DAYLIGHT
BEGIN:STANDARD
TZOFFSETFROM:-0500
TZOFFSETTO:-0600
TZNAME:CST
DTSTART:20181104T070000
END:STANDARD
BEGIN:DAYLIGHT
TZOFFSETFROM:-0600
TZOFFSETTO:-0500
TZNAME:CDT
DTSTART:20190310T080000
END:DAYLIGHT
BEGIN:STANDARD
TZOFFSETFROM:-0500
TZOFFSETTO:-0600
TZNAME:CST
DTSTART:20191103T070000
END:STANDARD
BEGIN:DAYLIGHT
TZOFFSETFROM:-0600
TZOFFSETTO:-0500
TZNAME:CDT
DTSTART:20200308T080000
END:DAYLIGHT
BEGIN:STANDARD
TZOFFSETFROM:-0500
TZOFFSETTO:-0600
TZNAME:CST
DTSTART:20201101T070000
END:STANDARD
END:VTIMEZONE
BEGIN:VEVENT
DTSTART;TZID=America/Chicago:20190730T180000
DTEND;TZID=America/Chicago:20190730T210000
DTSTAMP:20260423T004933
CREATED:20190703T202546Z
LAST-MODIFIED:20190703T202546Z
UID:17235-1564509600-1564520400@playground.catalystranch.com
SUMMARY:Ignite Chicago at Catalyst Ranch in July
DESCRIPTION:Ignite Chicago packs the house. Come to Catalyst Ranch July 30 for a night of great ideas!\n \n\n  \nIgnite Chicago is a high-energy evening of 5-minute talks by people who have a burning idea—and the guts to get onstage and share it with their hometown crowd.\n  \n  \n \nAttending this evening’s Ignite Chicago does good for the city and for your neighbors. All proceeds from Ignite Chicago at Catalyst Ranch go toward funding the volunteer-run\, nonprofit organization We All Code (formerly CoderDojoChi)\, which teaches web\, game and app development to youth ages 7 to 17. So when you buy your ticket to expand your mind at Ignite Chicago\, you effectively contribute to expanding the minds of young people in our beloved city! \n \nSpeaking at Ignite is an unforgettable experience. You step up to the mic. Your palms sweat. You can hear the thump of your blood rushing. Your voice cracks for an instant and then you launch into a rant for 300 straight seconds\, wearing your passion on your sleeve\, barely pausing to breathe. The crowd goes wild. \nIgnite Chicago at Catalyst Ranch is open to everyone. All talks are 5 minutes (20 slides x 15 seconds/slide). \n \nThere is no theme for Ignite. You can talk about virtually anything as long as you can show us your passion for it. What’s the thing you most geek out about? What’s the topic of conversation that quickens your pulse and sets your toe a-tappin’? That is what we want to hear you speak about. \nAll speakers get equal time and equal billing. All talks are 5 minutes. You create 20 slides\, and we set them up to auto-advance every 15 seconds. \nRefreshments are generously provided by sponsors Giordano’s Pizza and Lagunitas Brewing Company.\nWant to speak?\nThe audience at Ignite is generous and patient. They know the Ignite format is difficult\, and they realize you might be an absolute beginner at public speaking. Don’t worry – they’ve got your back. You’re giving them your passion and your vulnerability\, and they love you for that. You won’t find a more appreciative audience at any other event. \nSome people think Ignite is about self-help talks. It isn’t. Nobody wants to hear a preachy pep talk. We’re already “good enough and smart enough\,” so let’s keep this about you and your passionate ideas. \nFinally\, we’re serious about the no pitching thing. We know that sometimes a speaker must mention their profession in order to give their talk context\, which is totally fine. But Ignite is not the place to tout your organization or to troll for clients. \nClick the logo for tickets.\n \n\n \nFind out more about the maestro behind both Ignite Chicago and CoderDojoChi\, Ali Karbassi\, by clicking here! \n\n\nLearn more about Chicago’s Most Creative Meeting and Event Space Catalyst Ranch!
URL:https://playground.catalystranch.com/event/ignite-chicago-at-catalyst-ranch-in-july/
LOCATION:Catalyst Ranch\,  656 W Randolph St\, Chicago\, IL\, 60661\, United States
CATEGORIES:Networking,Talk
ATTACH;FMTTYPE=image/png:https://playground.catalystranch.com/wp-content/uploads/2019/07/900x450-Wordpress-Feat-Image-12.png
END:VEVENT
BEGIN:VEVENT
DTSTART;TZID=America/Chicago:20190626T183000
DTEND;TZID=America/Chicago:20190626T203000
DTSTAMP:20260423T004933
CREATED:20190516T170125Z
LAST-MODIFIED:20190516T170125Z
UID:16939-1561573800-1561581000@playground.catalystranch.com
SUMMARY:Brainstorming: Finding your purpose - real people\, real conversations
DESCRIPTION:Dr. Benjamin Ritter brings the Brainstorming series to Catalyst Ranch to foster real conversations among real people. The evening’s theme: Finding your purpose . \n \n\nHave you ever had an open and honest conversation with someone you didn’t know and felt completely energized? \nHave you ever wondered how to find people to discuss meaningful topics that don’t relate to sports or the weather? \nThis isn’t an event where you are given a drink ticket and thrown to the wolves. \nWe have real conversations and meet real people. \nNone of that “what do you do?” or “wow that weather outside was something”… \nThis is a brainstorm\, where people come together to think deeply and speak openly.\n \nBrainstorming is an event that is focused on bringing people together to talk about a specific theme\, cultivate community\, and hopefully inspire personal and professional growth. This month we are focusing on the topic of finding your purpose. \nThe event (doors open at 6:15 PM\, to provide time for refreshments and icebreakers) consists of breakout and group brainstorming sessions and to discuss specific questions related to the theme of the event. \nBrainstorming events are limited in size to promote authentic relationships and building community. Get your ticket ASAP if you are planning to attend. \nTicket prices increase on the Monday before the event.  \n  \n— \nHosted by:\nDr. Benjamin Ritter is a Chicago based social entrepreneur\, coach\, consultant\, mentor\, and expert in the fields of personal and professional internal leadership development. \nThroughout his career he has worked in the areas of hospitality\, the entertainment industry\, public health\, education\, childcare\, healthcare\, and personal and professional development\, constantly seeking new experiences to learn more about the world\, and himself. \nThe culmination of his previous personal\, professional\, and educational experiences led him to create Live for Yourself (LFY) Consulting\, a coaching/consulting company that is focused on helping successful professionals find more meaning at life and in work. \nLFY Consulting bases its coaching practices on the unique LIVE system\, which integrates doctoral level applied learning theory\, and curriculum and leadership development research. \nDr. Benjamin Ritter is also the host of the Live for yourself podcast and Live for Yourself events\, author of The Live for Yourself Workbook\, and The Essentials\, creator of The Breakup Supplement\, and a freelance expert and writer. \n\nSee all of Catalyst Ranch’s Public Events here!
URL:https://playground.catalystranch.com/event/brainstorming-finding-your-purpose-real-people-real-conversations/
LOCATION:Catalyst Ranch\,  656 W Randolph St\, Chicago\, IL\, 60661\, United States
CATEGORIES:Meetup,Networking,Talk
ATTACH;FMTTYPE=image/png:https://playground.catalystranch.com/wp-content/uploads/2019/03/DrBenjaminRitter_eventimage-midsize.png
END:VEVENT
BEGIN:VEVENT
DTSTART;TZID=America/Chicago:20190625T180000
DTEND;TZID=America/Chicago:20190625T210000
DTSTAMP:20260423T004933
CREATED:20190601T224033Z
LAST-MODIFIED:20190601T224033Z
UID:17034-1561485600-1561496400@playground.catalystranch.com
SUMMARY:Ignite Chicago at Catalyst Ranch in June
DESCRIPTION:Ignite Chicago packs the house. Come to Catalyst Ranch June 25 for a night of great ideas!\n \n\n  \nIgnite Chicago is a high-energy evening of 5-minute talks by people who have a burning idea—and the guts to get onstage and share it with their hometown crowd.\n  \n  \n \nAttending this evening’s Ignite Chicago does good for the city and for your neighbors. All proceeds from Ignite Chicago at Catalyst Ranch in June go toward funding the volunteer-run\, nonprofit organization We All Code (formerly CoderDojoChi)\, which teaches web\, game and app development to youth ages 7 to 17. So when you buy your ticket to expand your mind at Ignite Chicago\, you effectively contribute to expanding the minds of young people in our beloved city! \n \nSpeaking at Ignite is an unforgettable experience. You step up to the mic. Your palms sweat. You can hear the thump of your blood rushing. Your voice cracks for an instant and then you launch into a rant for 300 straight seconds\, wearing your passion on your sleeve\, barely pausing to breathe. The crowd goes wild. \nIgnite Chicago at Catalyst Ranch is open to everyone. All talks are 5 minutes (20 slides x 15 seconds/slide). \n \nThere is no theme for Ignite. You can talk about virtually anything as long as you can show us your passion for it. What’s the thing you most geek out about? What’s the topic of conversation that quickens your pulse and sets your toe a-tappin’? That is what we want to hear you speak about. \nAll speakers get equal time and equal billing. All talks are 5 minutes. You create 20 slides\, and we set them up to auto-advance every 15 seconds. \nWant to speak?\nThe audience at Ignite is generous and patient. They know the Ignite format is difficult\, and they realize you might be an absolute beginner at public speaking. Don’t worry – they’ve got your back. You’re giving them your passion and your vulnerability\, and they love you for that. You won’t find a more appreciative audience at any other event. \nSome people think Ignite is about self-help talks. It isn’t. Nobody wants to hear a preachy pep talk. We’re already “good enough and smart enough\,” so let’s keep this about you and your passionate ideas. \nFinally\, we’re serious about the no pitching thing. We know that sometimes a speaker must mention their profession in order to give their talk context\, which is totally fine. But Ignite is not the place to tout your organization or to troll for clients. \nClick the logo for tickets.\n \n\n \nFind out more about the maestro behind both Ignite Chicago and CoderDojoChi\, Ali Karbassi\, by clicking here! \n\n\nLearn more about Chicago’s Most Creative Meeting and Event Space Catalyst Ranch!
URL:https://playground.catalystranch.com/event/ignite-chicago-at-catalyst-ranch-in-june/
LOCATION:Catalyst Ranch\,  656 W Randolph St\, Chicago\, IL\, 60661\, United States
CATEGORIES:Ignite Chicago,Networking,Talk
ATTACH;FMTTYPE=image/png:https://playground.catalystranch.com/wp-content/uploads/2019/04/900x450-Wordpress-Feat-Image-2.png
END:VEVENT
BEGIN:VEVENT
DTSTART;TZID=America/Chicago:20190528T180000
DTEND;TZID=America/Chicago:20190528T203000
DTSTAMP:20260423T004933
CREATED:20190507T223152Z
LAST-MODIFIED:20190507T224103Z
UID:16856-1559066400-1559075400@playground.catalystranch.com
SUMMARY:Ignite Chicago: Talks at Catalyst Ranch in May
DESCRIPTION:Ignite Chicago packs the house. Come to Catalyst Ranch May 28 for a night of great ideas!\n \n\n  \nIgnite Chicago is a high-energy evening of 5-minute talks by people who have a burning idea—and the guts to get onstage and share it with their hometown crowd.\n  \n  \n \nAttending this evening’s Ignite Chicago does good for the city and for your neighbors. All proceeds from Ignite Chicago at Catalyst Ranch in April go toward funding the volunteer-run\, nonprofit organization We All Code (formerly CoderDojoChi)\, which teaches web\, game and app development to youth ages 7 to 17. So when you buy your ticket to expand your mind at Ignite Chicago\, you effectively contribute to expanding the minds of young people in our beloved city! \n \nSpeaking at Ignite is an unforgettable experience. You step up to the mic. Your palms sweat. You can hear the thump of your blood rushing. Your voice cracks for an instant and then you launch into a rant for 300 straight seconds\, wearing your passion on your sleeve\, barely pausing to breathe. The crowd goes wild. \nIgnite Chicago at Catalyst Ranch in May is open to everyone. All talks are 5 minutes (20 slides x 15 seconds/slide). \n \nThere is no theme for Ignite. You can talk about virtually anything as long as you can show us your passion for it. What’s the thing you most geek out about? What’s the topic of conversation that quickens your pulse and sets your toe a-tappin’? That is what we want to hear you speak about. \nAll speakers get equal time and equal billing. All talks are 5 minutes. You create 20 slides\, and we set them up to auto-advance every 15 seconds. \nWant to speak?\nThe audience at Ignite is generous and patient. They know the Ignite format is difficult\, and they realize you might be an absolute beginner at public speaking. Don’t worry – they’ve got your back. You’re giving them your passion and your vulnerability\, and they love you for that. You won’t find a more appreciative audience at any other event. \nSome people think Ignite is about self-help talks. It isn’t. Nobody wants to hear a preachy pep talk. We’re already “good enough and smart enough\,” so let’s keep this about you and your passionate ideas. \nFinally\, we’re serious about the no pitching thing. We know that sometimes a speaker must mention their profession in order to give their talk context\, which is totally fine. But Ignite is not the place to tout your organization or to troll for clients. \nClick the logo for tickets.\n \n\n \nFind out more about the maestro behind both Ignite Chicago and CoderDojoChi\, Ali Karbassi\, by clicking here! \n\n\nLearn more about Chicago’s Most Creative Meeting and Event Space Catalyst Ranch!
URL:https://playground.catalystranch.com/event/ignite-chicago-talks-at-catalyst-ranch-in-may/
LOCATION:Catalyst Ranch\,  656 W Randolph St\, Chicago\, IL\, 60661\, United States
CATEGORIES:Ignite Chicago,Talk
ATTACH;FMTTYPE=image/png:https://playground.catalystranch.com/wp-content/uploads/2019/04/900x450-Wordpress-Feat-Image-2.png
END:VEVENT
BEGIN:VEVENT
DTSTART;TZID=America/Chicago:20190430T180000
DTEND;TZID=America/Chicago:20190430T210000
DTSTAMP:20260423T004933
CREATED:20190408T170218Z
LAST-MODIFIED:20190416T214239Z
UID:16626-1556647200-1556658000@playground.catalystranch.com
SUMMARY:Ignite Chicago: Talks at Catalyst Ranch in April
DESCRIPTION:Ignite Chicago delivers TRUTH BOMBS and A-HA MOMENTS. Get a full dose at Catalyst Ranch in April!\n \n\nIgnite Chicago is a high-energy evening of 5-minute talks by people who have a burning idea—and the guts to get onstage and share it with their hometown crowd.\n  \n  \n  \n \nAttending this evening’s Ignite Chicago does good for the city and for your neighbors. All proceeds from Ignite Chicago at Catalyst Ranch in April go toward funding the volunteer-run\, nonprofit organization CoderDojoChi\, which teaches web\, game and app development to youth ages 7 to 17. So when you buy your ticket to expand your mind at Ignite Chicago\, you effectively contribute to expanding the minds of young people in our beloved city! \n \nSpeaking at Ignite is an unforgettable experience. You step up to the mic. Your palms sweat. You can hear the thump of your blood rushing. Your voice cracks for an instant and then you launch into a rant for 300 straight seconds\, wearing your passion on your sleeve\, barely pausing to breathe. The crowd goes wild. \nIgnite Chicago at Catalyst Ranch in April is open to everyone. All talks are 5 minutes (20 slides x 15 seconds/slide). \n \nThere is no theme for Ignite. You can talk about virtually anything as long as you can show us your passion for it. What’s the thing you most geek out about? What’s the topic of conversation that quickens your pulse and sets your toe a-tappin’? That is what we want to hear you speak about. \nAll speakers get equal time and equal billing. All talks are 5 minutes. You create 20 slides\, and we set them up to auto-advance every 15 seconds. \nWant to speak?\nThe audience at Ignite is generous and patient. They know the Ignite format is difficult\, and they realize you might be an absolute beginner at public speaking. Don’t worry – they’ve got your back. You’re giving them your passion and your vulnerability\, and they love you for that. You won’t find a more appreciative audience at any other event. \nSome people think Ignite is about self-help talks. It isn’t. Nobody wants to hear a preachy pep talk. We’re already “good enough and smart enough\,” so let’s keep this about you and your passionate ideas. \nFinally\, we’re serious about the no pitching thing. We know that sometimes a speaker must mention their profession in order to give their talk context\, which is totally fine. But Ignite is not the place to tout your organization or to troll for clients. \nClick the logo for tickets.\n \n\n \nFind out more about the maestro behind both Ignite Chicago and CoderDojoChi\, Ali Karbassi\, by clicking here!
URL:https://playground.catalystranch.com/event/ignite-chicago-talks-at-catalyst-ranch-in-april/
LOCATION:Catalyst Ranch\,  656 W Randolph St\, Chicago\, IL\, 60661\, United States
CATEGORIES:Ignite Chicago,Meetup,Networking,Talk
ATTACH;FMTTYPE=image/png:https://playground.catalystranch.com/wp-content/uploads/2019/04/900x450-Wordpress-Feat-Image-2.png
END:VEVENT
BEGIN:VEVENT
DTSTART;TZID=America/Chicago:20190329T083000
DTEND;TZID=America/Chicago:20190329T100000
DTSTAMP:20260423T004934
CREATED:20190304T174052Z
LAST-MODIFIED:20190304T175418Z
UID:16333-1553848200-1553853600@playground.catalystranch.com
SUMMARY:CreativeMornings: Breakfast and a Talk\, with Shilpa Alva
DESCRIPTION:CreativeMornings: Breakfast and a Talk\, with Shilpa Alva\nMarch 29\, 8:30am – 10:00am\n \n  \nCreativeMornings organizes stimulating talks over coffee and nosh\, always for FREE and open to everyone. This month the Chicago chapter of this international breakfast lecture series for the creative community comes to Catalyst Ranch\, giving the mic to Shilpa Alva\, Founder and Executive Director of Surge for Water. \n \nIn 2008\, CreativeMornings was born out of a desire for an ongoing\, accessible event for New York’s creative community. The concept was simple: breakfast and a short talk one Friday morning a month. Every event would be free of charge and open to anyone. \nToday\, attendees gather in cities around the world to enjoy fresh coffee\, friendly people\, and an international array of breakfast foods. Volunteer hosts and their team members organize local chapters that not only celebrate a city’s creative talent\, but also promote an open space to connect with like-minded individuals. \nFrom design legends to hometown heroes\, speakers are selected by each chapter based on a global theme. CreativeMornings‘ Chicago team is seven years strong and host at Catalyst Ranch for the second time with Shilpa Alva. \nCreativeMornings remains free thanks to the support of local partners\, generous venues\, and longterm global partners. \nEveryone is welcome. \nEveryone is creative. \nJust register beforehand to reserve your spot. \nClick below to RSVP\, beginning Monday March 25!\n \n\nCreativeMornings March Theme: Water\nIt’s the main source of all life. The lifeblood element that makes up 60% of our bodies.\nIt’s the liquid that we don’t drink enough of\, yet waste effortlessly.\nIt’s home to millions of species\, mysteries\, and undiscovered knowledge.\nWe know more about the stars in the sky than the depths of our oceans.\nWe can use it to save lives. If used foolishly\, it can take lives.\nWe think there is an abundance\, yet only one percent can be touched. If we don’t protect our waters\, then what will happen to life? \nAbout the Speaker\nShilpa Alva is the Founder and Executive Director of Surge for Water\, a Chicago based nonprofit organization that has provided safe water and sanitation solutions to 1 million people in 11 countries. The spark that led Shilpa to the founding of Surge\, started when she was just 7 years old\, while visiting extended family in India. However\, after graduating from Johns Hopkins University with a degree in Chemical Engineering\, she joined the Corporate world. From here\, she enjoyed rapid early career success\, earned her MBA\, and continued up the Corporate ladder. \nEventually\, Shilpa came to the hard realization that she was not living in true alignment with her purpose. This led to Surge’s eventual founding and to her leaving a successful career and secure lifestyle. This leap of faith has lead to great things\, both through the joy she experiences in her daily purpose-driven life and through the communities who benefit from Surge’s work every single day. In addition to her passion for safe water and global development\, Shilpa loves to travel to new countries\, read\, practice yoga\, meditate\, and dance offbeat. \nEveryone is creative. \nA creative life requires bravery and action\, honesty and hard work. We are here to support you\, celebrate with you\, and encourage you to make the things you love. \nWe believe in the power of community. We believe in giving a damn. We believe in face-to-face connections\, in learning from others\, in hugs and high-fives. \nWe bring together people who are driven by passion and purpose\, confident that they will inspire one another\, and inspire change in neighborhoods and cities around the world. \nEveryone is welcome. \n \n\n\nSee more public offerings at Catalyst Ranch by clicking the logo below.
URL:https://playground.catalystranch.com/event/creativemornings-breakfast-and-a-talk-with-shilpa-alva/
LOCATION:Catalyst Ranch\,  656 W Randolph St\, Chicago\, IL\, 60661\, United States
CATEGORIES:Meetup,Networking,Talk
ATTACH;FMTTYPE=image/png:https://playground.catalystranch.com/wp-content/uploads/2018/08/CreativeMornings-talk.png
END:VEVENT
END:VCALENDAR