BEGIN:VCALENDAR
VERSION:2.0
PRODID:-//Catalyst Ranch - ECPv6.15.17.1//NONSGML v1.0//EN
CALSCALE:GREGORIAN
METHOD:PUBLISH
X-WR-CALNAME:Catalyst Ranch
X-ORIGINAL-URL:https://playground.catalystranch.com
X-WR-CALDESC:Events for Catalyst Ranch
REFRESH-INTERVAL;VALUE=DURATION:PT1H
X-Robots-Tag:noindex
X-PUBLISHED-TTL:PT1H
BEGIN:VTIMEZONE
TZID:America/Chicago
BEGIN:DAYLIGHT
TZOFFSETFROM:-0600
TZOFFSETTO:-0500
TZNAME:CDT
DTSTART:20180311T080000
END:DAYLIGHT
BEGIN:STANDARD
TZOFFSETFROM:-0500
TZOFFSETTO:-0600
TZNAME:CST
DTSTART:20181104T070000
END:STANDARD
BEGIN:DAYLIGHT
TZOFFSETFROM:-0600
TZOFFSETTO:-0500
TZNAME:CDT
DTSTART:20190310T080000
END:DAYLIGHT
BEGIN:STANDARD
TZOFFSETFROM:-0500
TZOFFSETTO:-0600
TZNAME:CST
DTSTART:20191103T070000
END:STANDARD
BEGIN:DAYLIGHT
TZOFFSETFROM:-0600
TZOFFSETTO:-0500
TZNAME:CDT
DTSTART:20200308T080000
END:DAYLIGHT
BEGIN:STANDARD
TZOFFSETFROM:-0500
TZOFFSETTO:-0600
TZNAME:CST
DTSTART:20201101T070000
END:STANDARD
BEGIN:DAYLIGHT
TZOFFSETFROM:-0600
TZOFFSETTO:-0500
TZNAME:CDT
DTSTART:20210314T080000
END:DAYLIGHT
BEGIN:STANDARD
TZOFFSETFROM:-0500
TZOFFSETTO:-0600
TZNAME:CST
DTSTART:20211107T070000
END:STANDARD
BEGIN:DAYLIGHT
TZOFFSETFROM:-0600
TZOFFSETTO:-0500
TZNAME:CDT
DTSTART:20220313T080000
END:DAYLIGHT
BEGIN:STANDARD
TZOFFSETFROM:-0500
TZOFFSETTO:-0600
TZNAME:CST
DTSTART:20221106T070000
END:STANDARD
BEGIN:DAYLIGHT
TZOFFSETFROM:-0600
TZOFFSETTO:-0500
TZNAME:CDT
DTSTART:20230312T080000
END:DAYLIGHT
BEGIN:STANDARD
TZOFFSETFROM:-0500
TZOFFSETTO:-0600
TZNAME:CST
DTSTART:20231105T070000
END:STANDARD
BEGIN:DAYLIGHT
TZOFFSETFROM:-0600
TZOFFSETTO:-0500
TZNAME:CDT
DTSTART:20240310T080000
END:DAYLIGHT
BEGIN:STANDARD
TZOFFSETFROM:-0500
TZOFFSETTO:-0600
TZNAME:CST
DTSTART:20241103T070000
END:STANDARD
END:VTIMEZONE
BEGIN:VEVENT
DTSTART;TZID=America/Chicago:20230319T120000
DTEND;TZID=America/Chicago:20230319T150000
DTSTAMP:20260423T022434
CREATED:20230302T175241Z
LAST-MODIFIED:20230302T193059Z
UID:31057-1679227200-1679238000@playground.catalystranch.com
SUMMARY:Urban Sketchers Chicago - Sketch Meetup
DESCRIPTION:From l-r\, works by artists Wes Douglas\, Jing Jenny Zhang and Kelly Parkhouse. \n			\n				\n				\n				\n				\n				Join the artists of the Urban Sketchers Chicago and use our vibrant space to inspire your art!\n			\n				\n				\n				\n				\n				Urban Sketchers Chicago is a social group of artists who meet in person every month to use one environment to sketch\, paint\, and more. \n			\n				RSVP via Facebook\n			\n				\n				\n				\n				\n				Click above for more details on the event. There you’ll also find the coordinator\, Gail Dokucu\, who can answer any questions you might have. \nEnjoy the company of fellow artists as you spend a peaceful afternoon making art\, and by the end you’ll be able to appreciate each other’s work. \nWe at Catalyst Ranch are always amazed to see the breadth of media and styles that are done in these meetups. We hope you’ll enjoy our unconventional space! \n 
URL:https://playground.catalystranch.com/event/urban-sketchers-chicago-sketch-meetup/
LOCATION:Catalyst Ranch\,  656 W Randolph St\, Chicago\, IL\, 60661\, United States
CATEGORIES:Meetup,Play,Recreational
ATTACH;FMTTYPE=image/png:https://playground.catalystranch.com/wp-content/uploads/2023/03/USK-Urban-Sketchers-Chicago-meetup.png
END:VEVENT
BEGIN:VEVENT
DTSTART;TZID=America/Chicago:20210224T173000
DTEND;TZID=America/Chicago:20210224T183000
DTSTAMP:20260423T022434
CREATED:20210121T154927Z
LAST-MODIFIED:20210121T154927Z
UID:21547-1614187800-1614191400@playground.catalystranch.com
SUMMARY:Travel Destinations and What They Can Teach You - A Virtual Panel
DESCRIPTION:Catalyst Ranch welcomes Color and Curiosity’s Megan Zink\, who’ll trade stories and inspiration with a panel of fellow travel enthusiasts.\nTravel Destinations and What They Can Teach You: A Virtual Panel with Megan Zink\n\n\n\n\n\n\n\nWe’re swapping workshop sessions for storytime\, and you’re not going to want to miss it! Sit back\, relax and soak up the #InspirationThroughInterviews as four Chicago travel lovers share stories of their favorite memories and the most important things they’ve learned from travel as an experiential learning tool. \n2020 may have majorly disrupted travel plans\, but there’s no harm in reminiscing or even beginning to think about future getaways – in fact\, studies and articles from publications such as National Geographic\, the New York Times and Travel & Leisure share that the anticipation of travel can be a huge mood booster! \nTune in and be taken away as you \n\nConnect with other curious travel lovers\nGet inspired through interviews\nCome away with ideas for experiential learning while traveling\n\nAll proceeds from the event will benefit Code Your Dreams\, a Chicago-based nonprofit focused on experiential learning\, bridging the tech gap in Chicago and creating grassroots change in communities. For more information\, visit www.codeyourdreams.org. \n  \n\n\nMeet the Storytellers\n\n\n\n  \nBrianne Caplan is the executive director and founder of Code Your Dreams\, a Chicago-based nonprofit that empowers underserved youth to innovate community solutions through code. Bri is also the founder of CoderHeroes\, a company that makes coding imaginative\, impactful and personal for children through individual and group virtual sessions. As a former data scientist and program director for Careers in Computer Science at the University of Chicago\, Bri strives to make the technology sector accessible to all. \nCourtney Vondran is a LGBTQ+ travel content creator from Chicago\, USA. Her mission is to help explorers travel cheaply and live authentically. When she’s not blogging\, she enjoys salsa dancing\, listening to a good podcast\, and exploring local street art. \nFlo Lawnicki is a senior paralegal as well as a lifestyle & travel blogger at Flo’s Favorites\, musician\, wife\, and mother from the Midwest – her entire life has been within Michigan\, Indiana\, and Illinois. Her blog\, Flo’s Favorites\, details her lifestyle and travels throughout the Midwest. On any given day you can find Flo somewhere along the lakefront or biking through one of Chicago’s fascinating neighborhoods searching for hidden gems. \nMaggie O’Reilly is a native of the South Side of Chicago and is an entrepreneur\, travel junkie and mother of two. In addition to owning a meeting and event planning company\, she is the founder and designer of MAYTA Collection\, an ethical fashion label fueled by a love of travel\, culture and tradition and inspired by the colors\, textures and materials she’s encountered and relationships she’s developed with artisans worldwide. Every piece is handcrafted in small batches using up-cycled or found textiles and raw materials – and no two are alike! \n\nAbout the hosts\n\n\nMEGAN ZINK\nMegan Zink is a content/demand gen marketer and creative mind passionate about ongoing education\, data-supported storytelling and visual communication. As a marketing manager at Chicago SaaS company ReviewTrackers\, she manages a team responsible for content\, conversion and lead gen initiatives as well as creative implementation and how content impacts the customer journey. She is also a published photographer and writer + public speaker (and Second City program alum). \nShe has been fortunate to travel since she was young and believes it is one of the best teachers for lifelong learning there is. You can usually find her learning something new (like astrophotography) or outdoors\, hiking\, rollerblading\, running or doing yoga\, and she loves exploring different cultures through food and art. \nCOLOR & CURIOSITY\nColor & Curiosity helps others better tap into travel as a lifelong learning tool\, amplifies community-based content and elevates the stories of localized womxn entrepreneurs and educators. Have a story to tell? Connect with us @color.and.curiosity or www.colorandcuriosity.com. Contact us for more information on educational events and workshops\, consulting on editorial strategy\, case ‘stories’ and other services! \n\n\n\nCATALYST RANCH\, Chicago’s Creative Meeting and Event Solution\nCatalyst Ranch is Chicago’s authority on creative meetings and events\, both in-person and virtually. Since 2002\, we’ve been activating creativity and innovation for clients worldwide\, and we’re dedicated to making all your meeting goals a reality. We’re your trusted partner\, taking the stress out of meeting planning and delivery. \nA woman-owned business and pioneers of Chicago’s prolific West Loop neighborhood\, our brick-and-mortar venue is located at 648 West Randolph Street. For a truly revitalizing experience\, visit us in person and immerse yourself in our stimulating\, unexpected environment! Until then\, get a peek at www.catalystranch.com.
URL:https://playground.catalystranch.com/event/travel-destinations-and-what-they-can-teach-you-a-virtual-panel/
LOCATION:Online
CATEGORIES:Panel Discussion,Recreational
ATTACH;FMTTYPE=image/png:https://playground.catalystranch.com/wp-content/uploads/2021/01/Inspiration-Through-Interviews-Color-and-Curiosity-banner.png
END:VEVENT
BEGIN:VEVENT
DTSTART;TZID=America/Chicago:20190620T183000
DTEND;TZID=America/Chicago:20190620T203000
DTSTAMP:20260423T022434
CREATED:20190416T222050Z
LAST-MODIFIED:20190416T222050Z
UID:16692-1561055400-1561062600@playground.catalystranch.com
SUMMARY:Classic Cocktail Workshop: A Camp Boundless Pop-Up!
DESCRIPTION:Camp Boundless soaks in the summer and learns how to make some refreshing\, classic cocktails! \nWOW YOUR GUESTS WITH YOUR MIXOLOGY TECHNIQUES!\nWant to learn how to properly make some of your favorite classic cocktails?  In attending this workshop\, you’ll gain an understanding for the entire foundation of cocktail culture.  Through conversation and interactive elements\, you’ll be able to create some of your own faves in the classic cocktail canon.  Join David Mor\, Beverage Manager of Cindy’s Rooftop restaurant and lounge at the Chicago Athletic Association Hotel\, in an evening of bartending\, conversation\, and imbibing! \nWhat’s Included?\nAll the mixers\, alcohol & instructions to mix up classic cocktails! Finger foods and non-alcoholic beverages will be provided as well. \n \n\nCamp Boundless offers a variety of engaging\, hands-on experiences for adults who want to explore\, learn and grow. All of our events are a chance to disconnect from your phone and reconnect with discovery. Try new activities\, meet new people\, play games and laugh. Rediscover your childlike imagination and curiosity. \nDon’t stop growing just because you’re grown-up!\nFor more information about Camp Boundless and our Annual All-Day Play Camp\, check out our website! \n\n\nLearn more about Chicago’s Most Creative Meeting and Event Space Catalyst Ranch!
URL:https://playground.catalystranch.com/event/classic-cocktail-workshop-camp-boundless/
LOCATION:Catalyst Ranch\,  656 W Randolph St\, Chicago\, IL\, 60661\, United States
CATEGORIES:Camp Boundless,Class,Experiential,Meetup,Networking,Play,Recreational,Workshop
ATTACH;FMTTYPE=image/png:https://playground.catalystranch.com/wp-content/uploads/2019/04/900x450-Wordpress-Feat-Image-1.png
END:VEVENT
END:VCALENDAR