BEGIN:VCALENDAR
VERSION:2.0
PRODID:-//Catalyst Ranch - ECPv6.15.17.1//NONSGML v1.0//EN
CALSCALE:GREGORIAN
METHOD:PUBLISH
X-ORIGINAL-URL:https://playground.catalystranch.com
X-WR-CALDESC:Events for Catalyst Ranch
REFRESH-INTERVAL;VALUE=DURATION:PT1H
X-Robots-Tag:noindex
X-PUBLISHED-TTL:PT1H
BEGIN:VTIMEZONE
TZID:America/Chicago
BEGIN:DAYLIGHT
TZOFFSETFROM:-0600
TZOFFSETTO:-0500
TZNAME:CDT
DTSTART:20200308T080000
END:DAYLIGHT
BEGIN:STANDARD
TZOFFSETFROM:-0500
TZOFFSETTO:-0600
TZNAME:CST
DTSTART:20201101T070000
END:STANDARD
BEGIN:DAYLIGHT
TZOFFSETFROM:-0600
TZOFFSETTO:-0500
TZNAME:CDT
DTSTART:20210314T080000
END:DAYLIGHT
BEGIN:STANDARD
TZOFFSETFROM:-0500
TZOFFSETTO:-0600
TZNAME:CST
DTSTART:20211107T070000
END:STANDARD
BEGIN:DAYLIGHT
TZOFFSETFROM:-0600
TZOFFSETTO:-0500
TZNAME:CDT
DTSTART:20220313T080000
END:DAYLIGHT
BEGIN:STANDARD
TZOFFSETFROM:-0500
TZOFFSETTO:-0600
TZNAME:CST
DTSTART:20221106T070000
END:STANDARD
END:VTIMEZONE
BEGIN:VEVENT
DTSTART;TZID=America/Chicago:20210924T143000
DTEND;TZID=America/Chicago:20210924T163000
DTSTAMP:20260423T063658
CREATED:20210902T211843Z
LAST-MODIFIED:20210902T212241Z
UID:29795-1632493800-1632501000@playground.catalystranch.com
SUMMARY:Cookie & Coffee Social
DESCRIPTION:This month we’re leaving the ice cream behind in favor of some much needed caffeine. Come meet our staff\, learn about our services\, and tour our fabulous rooms—all while enjoying a hot or iced beverage from a special coffee bar. And of course\, lots and lots of cookies for dunking. \nRSVP by emailing kira@catalystranch.com
URL:https://playground.catalystranch.com/event/cookie-coffee-social/
LOCATION:Catalyst Ranch\,  656 W Randolph St\, Chicago\, IL\, 60661\, United States
CATEGORIES:Ranch Social
ATTACH;FMTTYPE=image/png:https://playground.catalystranch.com/wp-content/uploads/2021/09/cookie-and-coffee-social.png
END:VEVENT
END:VCALENDAR