BEGIN:VCALENDAR
VERSION:2.0
PRODID:-//Catalyst Ranch - ECPv6.15.17.1//NONSGML v1.0//EN
CALSCALE:GREGORIAN
METHOD:PUBLISH
X-WR-CALNAME:Catalyst Ranch
X-ORIGINAL-URL:https://playground.catalystranch.com
X-WR-CALDESC:Events for Catalyst Ranch
REFRESH-INTERVAL;VALUE=DURATION:PT1H
X-Robots-Tag:noindex
X-PUBLISHED-TTL:PT1H
BEGIN:VTIMEZONE
TZID:UTC
BEGIN:STANDARD
TZOFFSETFROM:+0000
TZOFFSETTO:+0000
TZNAME:UTC
DTSTART:20170101T000000
END:STANDARD
END:VTIMEZONE
BEGIN:VEVENT
DTSTART;TZID=UTC:20181109T180000
DTEND;TZID=UTC:20181109T200000
DTSTAMP:20260424T075818
CREATED:20181030T235546Z
LAST-MODIFIED:20181030T235546Z
UID:15888-1541786400-1541793600@playground.catalystranch.com
SUMMARY:Andrew Yang for President 2020 Humanity First Tour Chicago Rally
DESCRIPTION:Catalyst Ranch welcomes Andrew Yang for President 2020 Humanity First Tour Chicago \n \n2020 Democratic Presidential Candidate Andrew Yang is coming to Chicago!\n\nOne of the most exciting candidates in the 2020 US Presidential Election\, Andrew Yang (D) is looking to bring his experience as a successful tech entrepreneur and innovator to the White House. \nIn 2011 he founded Venture for America\, and spent the last 6 years helping to create more than 2\,500 jobs in cities like Cleveland\, Detroit\, and Pittsburgh. \nAndrew realized artificial intelligence threatens one-third of all jobs\, and that we need a vision for a radically different future. In The War on Normal People (April 2018)\, he explains this crisis\, arguing for The Freedom Dividend\, $1\,000 a month for every American adult\, a central pillar of his platform. \nJoin hundreds of other members of the Chicago community as Andrew makes his Humanity First tour around the country! \nYou can learn more about Andrew’s platform here\, and check out his features in the New York Times\, Huffington Post\, and CNBC – or podcasts with Ezra Klein and Sam Harris. \nWe hope to see you there! \n\nDoors open at 6pm. Event goes from 6:30-8pm. Food and beverages will be served.\n \nAndrew Yang for President 2020 Humanity First Tour Chicago is open to the public. See all of Catalyst Ranch’s Public Events here!
URL:https://playground.catalystranch.com/event/andrew-yang-for-president-2020-humanity-first-tour-chicago-rally/
LOCATION:Catalyst Ranch\,  656 W Randolph St\, Chicago\, IL\, 60661\, United States
CATEGORIES:Rally
ATTACH;FMTTYPE=image/jpeg:https://playground.catalystranch.com/wp-content/uploads/2018/10/Andrew-Yang2020.jpg
END:VEVENT
END:VCALENDAR