BEGIN:VCALENDAR
VERSION:2.0
PRODID:-//Catalyst Ranch - ECPv6.15.17.1//NONSGML v1.0//EN
CALSCALE:GREGORIAN
METHOD:PUBLISH
X-WR-CALNAME:Catalyst Ranch
X-ORIGINAL-URL:https://playground.catalystranch.com
X-WR-CALDESC:Events for Catalyst Ranch
REFRESH-INTERVAL;VALUE=DURATION:PT1H
X-Robots-Tag:noindex
X-PUBLISHED-TTL:PT1H
BEGIN:VTIMEZONE
TZID:America/Chicago
BEGIN:DAYLIGHT
TZOFFSETFROM:-0600
TZOFFSETTO:-0500
TZNAME:CDT
DTSTART:20230312T080000
END:DAYLIGHT
BEGIN:STANDARD
TZOFFSETFROM:-0500
TZOFFSETTO:-0600
TZNAME:CST
DTSTART:20231105T070000
END:STANDARD
BEGIN:DAYLIGHT
TZOFFSETFROM:-0600
TZOFFSETTO:-0500
TZNAME:CDT
DTSTART:20240310T080000
END:DAYLIGHT
BEGIN:STANDARD
TZOFFSETFROM:-0500
TZOFFSETTO:-0600
TZNAME:CST
DTSTART:20241103T070000
END:STANDARD
BEGIN:DAYLIGHT
TZOFFSETFROM:-0600
TZOFFSETTO:-0500
TZNAME:CDT
DTSTART:20250309T080000
END:DAYLIGHT
BEGIN:STANDARD
TZOFFSETFROM:-0500
TZOFFSETTO:-0600
TZNAME:CST
DTSTART:20251102T070000
END:STANDARD
END:VTIMEZONE
BEGIN:VEVENT
DTSTART;TZID=America/Chicago:20240929T190000
DTEND;TZID=America/Chicago:20240929T210000
DTSTAMP:20260422T175858
CREATED:20240920T075452Z
LAST-MODIFIED:20240920T075453Z
UID:31857-1727636400-1727643600@playground.catalystranch.com
SUMMARY:Stop Motion Plant's Salon for experimental art
DESCRIPTION:Performance art cohort Stop Motion Plant brings their monthly Salon of new experimental works to Catalyst Ranch.\n			\n				\n				\n				\n				\n				Stop Motion Plant\, in their own words\, is a performance art company producing live theater that is personal and truthful. This company began collaborating while studying with the storied Chicago company The Neo-Futurists\, and in their three years of devising and producing\, they have been notably featured in American Theatre Magazine and Block Club Chicago. \nStop Motion Plant’s monthly Salon is their designated free space available to artists of myriad backgrounds and media for trying out new works with a receptive audience\, plus the option of receiving feedback from peers and attendees. \nFind more info on attending\, as well as for submitting your work for consideration\, at Stop Motion Plant’s Instagram. \n  \n			\n				More info for the Salon
URL:https://playground.catalystranch.com/event/stop-motion-plants-salon-for-experimental-art/
LOCATION:Catalyst Ranch\,  656 W Randolph St\, Chicago\, IL\, 60661\, United States
CATEGORIES:Art show,Performance
ATTACH;FMTTYPE=image/jpeg:https://playground.catalystranch.com/wp-content/uploads/2024/09/Stop-Plant-Motion-salon-sept-2024-at-Catalyst-Ranch.jpg
END:VEVENT
END:VCALENDAR