BEGIN:VCALENDAR
VERSION:2.0
PRODID:-//Catalyst Ranch - ECPv6.15.17.1//NONSGML v1.0//EN
CALSCALE:GREGORIAN
METHOD:PUBLISH
X-ORIGINAL-URL:https://playground.catalystranch.com
X-WR-CALDESC:Events for Catalyst Ranch
REFRESH-INTERVAL;VALUE=DURATION:PT1H
X-Robots-Tag:noindex
X-PUBLISHED-TTL:PT1H
BEGIN:VTIMEZONE
TZID:America/Chicago
BEGIN:DAYLIGHT
TZOFFSETFROM:-0600
TZOFFSETTO:-0500
TZNAME:CDT
DTSTART:20180311T080000
END:DAYLIGHT
BEGIN:STANDARD
TZOFFSETFROM:-0500
TZOFFSETTO:-0600
TZNAME:CST
DTSTART:20181104T070000
END:STANDARD
BEGIN:DAYLIGHT
TZOFFSETFROM:-0600
TZOFFSETTO:-0500
TZNAME:CDT
DTSTART:20190310T080000
END:DAYLIGHT
BEGIN:STANDARD
TZOFFSETFROM:-0500
TZOFFSETTO:-0600
TZNAME:CST
DTSTART:20191103T070000
END:STANDARD
BEGIN:DAYLIGHT
TZOFFSETFROM:-0600
TZOFFSETTO:-0500
TZNAME:CDT
DTSTART:20200308T080000
END:DAYLIGHT
BEGIN:STANDARD
TZOFFSETFROM:-0500
TZOFFSETTO:-0600
TZNAME:CST
DTSTART:20201101T070000
END:STANDARD
BEGIN:DAYLIGHT
TZOFFSETFROM:-0600
TZOFFSETTO:-0500
TZNAME:CDT
DTSTART:20210314T080000
END:DAYLIGHT
BEGIN:STANDARD
TZOFFSETFROM:-0500
TZOFFSETTO:-0600
TZNAME:CST
DTSTART:20211107T070000
END:STANDARD
END:VTIMEZONE
BEGIN:VTIMEZONE
TZID:UTC
BEGIN:STANDARD
TZOFFSETFROM:+0000
TZOFFSETTO:+0000
TZNAME:UTC
DTSTART:20170101T000000
END:STANDARD
END:VTIMEZONE
BEGIN:VEVENT
DTSTART;TZID=America/Chicago:20200310T174500
DTEND;TZID=America/Chicago:20200310T201500
DTSTAMP:20260423T023221
CREATED:20200206T215849Z
LAST-MODIFIED:20200206T223328Z
UID:19618-1583862300-1583871300@playground.catalystranch.com
SUMMARY:improve it! Business Improv - Q1 Workshop
DESCRIPTION:Catalyst Ranch sets the scene for an improve it! Business Improv Q1 Workshop. This Chicago Innovation Award nominee establishes an atmosphere of fever-pitch fun to grow attendees’ workplace confidence and leadership skills. \n \n  \nAre you a business professional who would like to be fully present in the moment so there is no room for self-consciousness or shaky nerves? Are you looking for new ways to show leadership in your office or community? Are you looking to get to the next level in your profession but have trouble finding the confidence? \nMost importantly\, are you the kind of person who likes…FUN?!? \nThen\, say no more! Come join improve it! in our quarterly public workshop\, and we’ll teach you the healing powers of improv for the workplace. \nOur energetic and unique workshop will highlight the impact that improvisational techniques can have on your communication skills\, and overall professional presentational presence! (Try saying that five times fast.) \nOver the course of two hours\, you will participate in an interactive lecture and series of improvisation-based exercises led by improve it!’s professional improvisers — all who have trained and performed at top theaters in Chicago and around the United States. The workshop will provide you with an intimate\, and hands-on experience to show you exactly what we do. \nWhat do we do? We’re glad you asked…\nimprove it! LLC is a Chicago-based company that provides high-energy\, laughter-filled corporate events & team building workshops that incorporate improvisation teams & techniques\, while donating a portion of proceeds to charity. To learn more about improve it! visit www.improveitchicago.com. \nSound good to you? Great! We’ll see you there. \nAdditional Details:\nTime: March 10th\, Registration opens at 5:45 pm and the workshop will begin promptly at 6:15 pm. \nLocation Details: Catalyst Ranch\, 656 West Randolph Street\, #3W Chicago\, IL 60661 \nAbout Catalyst Ranch: Catalyst Ranch was the first venue in Chicago to realize that the results of any offsite meeting or event can be enhanced if participants are placed in the right environment. We refused to believe that only Creatives should be allowed to work in non-businesslike\, fun\, eclectic spaces. Everyone can be more productive if the conditions are optimized\, which is why we customize each and every meeting that we host. By stimulating all the senses\, Catalyst Ranch helps break down barriers and create positive disruption of thought and new ideas. We offer all-inclusive pricing and provide all the technology and meeting supplies you require. Partner with our team for exceptional customer service and the perfect meeting experience. \nAttire: Although this is a professional event\, comfortable professional clothing is encouraged as this will be an interactive workshop. \n \nSee more public offerings at Catalyst Ranch by clicking the logo below!
URL:https://playground.catalystranch.com/event/improve-it-business-improv-q1-workshop/
LOCATION:Catalyst Ranch\,  656 W Randolph St\, Chicago\, IL\, 60661\, United States
CATEGORIES:Class,Experiential,improve it!,Networking,Workshop
ATTACH;FMTTYPE=image/png:https://playground.catalystranch.com/wp-content/uploads/2019/03/Wordpress-Feat-Image-300X300-1.png
END:VEVENT
BEGIN:VEVENT
DTSTART;TZID=America/Chicago:20190618T180000
DTEND;TZID=America/Chicago:20190618T203000
DTSTAMP:20260423T023221
CREATED:20190531T211759Z
LAST-MODIFIED:20190531T211759Z
UID:17026-1560880800-1560889800@playground.catalystranch.com
SUMMARY:improve it! June Business Improv Workshop
DESCRIPTION:Catalyst Ranch welcomes back this 2018 Chicago Innovation Award nominee with the improve it! June Business Improv Workshop! \n  \n \nAre you a business professional who would like to learn creative techniques to think more quickly on your feet during a meeting or at a presentation? Are you a leader or manager looking to enhance collaboration across your team? Are you the type of person who is always trying to be the best version of yourself? \nMost importantly\, are you the kind of person who likes…FUN?!?\nThen\, say no more! Come join improve it! in their June Business Improv Workshop\, and you’ll learn the healing powers of improvisation for the workplace. \nOur energetic and unique workshop will highlight the impact that improvisational techniques can have on your communication skills\, and overall professional presentational presence! (Try saying that five times fast.) \nOver the course of two hours\, you will participate in an interactive lecture and series of improvisation-based exercises led by professional improvisers. By the end of the workshop we guarantee you will have learned and practiced how to: \n\nCommunicate with your team\nMotivate your peers in the workplace\nCreate an inspiring atmosphere for yourself and your coworkers!\n\n \nThe workshop will be led by improve it!’s founder\, Erin Diehl\, and three of improve it!’s professional improvisers — all who have trained and performed at top theaters in Chicago and around the United States. The workshop will provide you with an intimate\, and hands-on experience to show you exactly what we do. \nWhat do we do? We’re glad you asked…\nimprove it! LLC is a Chicago-based company that provides high-energy\, laughter-filled corporate events & team building workshops that incorporate improvisation teams & techniques\, while donating a portion of proceeds to charity. To learn more about improve it! visit www.improveitchicago.com. \nSound good to you? Great! We’ll see you there.\nAdditional Details for improve it! June Business Improv Workshop: \nDate and Time: June 18\, 2019. Registration opens at 6:00 p.m. and the workshop will begin promptly at 6:15 p.m. \n \n  \nSee more public offerings at Catalyst Ranch by clicking the logo below!
URL:https://playground.catalystranch.com/event/improve-it-june-business-improv-morning-workshop/
LOCATION:Catalyst Ranch\,  656 W Randolph St\, Chicago\, IL\, 60661\, United States
CATEGORIES:Class,Experiential,improve it!,Networking,Workshop
ATTACH;FMTTYPE=image/png:https://playground.catalystranch.com/wp-content/uploads/2019/03/Wordpress-Feat-Image-300X300-1.png
END:VEVENT
BEGIN:VEVENT
DTSTART;TZID=America/Chicago:20190412T080000
DTEND;TZID=America/Chicago:20190412T100000
DTSTAMP:20260423T023221
CREATED:20190311T181834Z
LAST-MODIFIED:20190311T182142Z
UID:16398-1555056000-1555063200@playground.catalystranch.com
SUMMARY:improve it! 2019Q2 Business Improv MORNING Workshop
DESCRIPTION:Catalyst Ranch welcomes back this 2018 Chicago Innovation Award nominee with the improve it! 2019 Q2 Business Improv Workshop: Morning Edition! \n \nAre you a business professional who would like to learn creative techniques to think more quickly on your feet during a meeting or at a presentation? Are you a leader or manager looking to enhance collaboration across your team? Are you the type of person who is always trying to be the best version of yourself? \nMost importantly\, are you the kind of person who likes…FUN?!?\nThen\, say no more! Come join improve it! in their 2019 Q2 Business Improv Workshop\, and you’ll learn the healing powers of improvisation for the workplace. \nOur energetic and unique workshop will highlight the impact that improvisational techniques can have on your communication skills\, and overall professional presentational presence! (Try saying that five times fast.) \nOver the course of two hours\, you will participate in an interactive lecture and series of improvisation-based exercises led by professional improvisers. By the end of the workshop we guarantee you will have learned and practiced how to: \n\nCommunicate with your team\nMotivate your peers in the workplace\nCreate an inspiring atmosphere for yourself and your coworkers!\n\n \nThe workshop will be led by improve it!’s founder\, Erin Diehl\, and three of improve it!’s professional improvisers — all who have trained and performed at top theaters in Chicago and around the United States. The workshop will provide you with an intimate\, and hands-on experience to show you exactly what we do. \nWhat do we do? We’re glad you asked…\nimprove it! LLC is a Chicago-based company that provides high-energy\, laughter-filled corporate events & team building workshops that incorporate improvisation teams & techniques\, while donating a portion of proceeds to charity. To learn more about improve it! visit www.improveitchicago.com. \nSound good to you? Great! We’ll see you there.\nAdditional Details for improve it! 2019 Q2 Business Improv Workshop: \nDate and Time: April 12\, 2019. Registration opens at 7:45 a.m. and the workshop will begin promptly at 8:00 a.m. \nLight breakfast will be included. \n  \n \n  \nSee more public offerings at Catalyst Ranch by clicking the logo below!
URL:https://playground.catalystranch.com/event/improve-it-2019q2-business-improv-morning-workshop/
LOCATION:Catalyst Ranch\,  656 W Randolph St\, Chicago\, IL\, 60661\, United States
CATEGORIES:improve it!
ATTACH;FMTTYPE=image/png:https://playground.catalystranch.com/wp-content/uploads/2019/03/Wordpress-Feat-Image-300X300-1.png
END:VEVENT
BEGIN:VEVENT
DTSTART;TZID=UTC:20190212T180000
DTEND;TZID=UTC:20190212T203000
DTSTAMP:20260423T023221
CREATED:20190117T052922Z
LAST-MODIFIED:20190129T035935Z
UID:16111-1549994400-1550003400@playground.catalystranch.com
SUMMARY:improve it! 2019 Q1 Business Improv Workshop
DESCRIPTION:Catalyst Ranch welcomes back this 2018 Chicago Innovation Award nominee with the improve it! 2019 Q1 Business Improv Workshop! \n \nAre you a business professional who would like to learn creative techniques to think more quickly on your feet during a meeting or at a presentation? Are you a leader or manager looking to enhance collaboration across your team? Are you the type of person who is always trying to be the best version of yourself? \nMost importantly\, are you the kind of person who likes…FUN?!?\nThen\, say no more! Come join improve it! in their 2019 Q1 Business Improv Workshop\, and you’ll learn the healing powers of improvisation for the workplace. \nOur energetic and unique workshop will highlight the impact that improvisational techniques can have on your communication skills\, and overall professional presentational presence! (Try saying that five times fast.) \nOver the course of two hours\, you will participate in an interactive lecture and series of improvisation-based exercises led by professional improvisers. By the end of the workshop we guarantee you will have learned and practiced how to: \n\nCommunicate ideas clearly to your peers\nTrust your first instinct rather than overthink\nReceive and respond to feedback more easily\nTune into your own brand of spontaneity!\n\n \nThe workshop will be led by improve it!’s founder\, Erin Diehl\, and three of improve it!’s professional improvisers — all who have trained and performed at top theaters in Chicago and around the United States. The workshop will provide you with an intimate\, and hands-on experience to show you exactly what we do. \nWhat do we do? We’re glad you asked…\nimprove it! LLC is a Chicago-based company that provides high-energy\, laughter-filled corporate events & team building workshops that incorporate improvisation teams & techniques\, while donating a portion of proceeds to charity. To learn more about improve it! visit www.improveitchicago.com. \nSound good to you? Great! We’ll see you there.\nAdditional Details for improve it! 2019 Q1 Business Improv Workshop: \nDate and Time: February 12. Registration opens at 6:00 p.m. and the workshop will begin promptly at 6:15 p.m. \nContact the organizer: Please contact Erin Diehl\, founder of improve it! with any questions at info@improveitchicago.com. \n \n  \nSee more public offerings at Catalyst Ranch by clicking the logo below!
URL:https://playground.catalystranch.com/event/improve-it-2019-q1-business-improv-workshop/
LOCATION:Catalyst Ranch\,  656 W Randolph St\, Chicago\, IL\, 60661\, United States
CATEGORIES:improve it!
ATTACH;FMTTYPE=image/png:https://playground.catalystranch.com/wp-content/uploads/2018/09/Ignite-Wordpress-Feat-Image-1.png
END:VEVENT
BEGIN:VEVENT
DTSTART;TZID=UTC:20181009T180000
DTEND;TZID=UTC:20181009T203000
DTSTAMP:20260423T023221
CREATED:20180919T003414Z
LAST-MODIFIED:20180919T003414Z
UID:15680-1539108000-1539117000@playground.catalystranch.com
SUMMARY:improve it! 2018 Q4 Business Improv Workshop
DESCRIPTION:Catalyst Ranch welcomes back this 2018 Chicago Innovation Award nominee with the improve it! 2018 Q4 Business Improv Workshop! \n \nAre you a business professional who would like to learn creative techniques to think more quickly on your feet during a meeting or at a presentation? Are you a leader or manager looking to enhance collaboration across your team? Are you the type of person who is always trying to be the best version of yourself? \nMost importantly\, are you the kind of person who likes…FUN?!?\nThen\, say no more! Come join improve it! in our 2018 Q4 Business Improv Workshop on Leadership\, and you’ll learn the healing powers of improvisation for the workplace. \nOur energetic and unique workshop will highlight the impact that improvisational techniques can have on your communication skills\, and overall professional presentational presence! (Try saying that five times fast.) \nOver the course of two hours\, you will participate in an interactive lecture and series of improvisation-based exercises led by professional improvisers. By the end of the workshop we guarantee you will have learned and practiced how to: \n\nCommunicate ideas clearly to your peers\nTrust your first instinct rather than overthink\nReceive and respond to feedback more easily\nTune into your own brand of spontaneity!\n\n \nThe workshop will be led by improve it!’s founder\, Erin Diehl\, and three of improve it!’s professional improvisers — all who have trained and performed at top theaters in Chicago and around the United States. The workshop will provide you with an intimate\, and hands-on experience to show you exactly what we do. \nWhat do we do? We’re glad you asked…\nimprove it! LLC is a Chicago-based company that provides high-energy\, laughter-filled corporate events & team building workshops that incorporate improvisation teams & techniques\, while donating a portion of proceeds to charity. To learn more about improve it! visit www.improveitchicago.com. \nSound good to you? Great! We’ll see you there.\nAdditional Details for improve it! 2018 Q4 Business Improv Workshop: \nTime: October 9th. Registration opens at 6:00 p.m. and the workshop will begin promptly at 6:15 p.m. \nContact the organizer: Please contact Erin Diehl\, founder of improve it! with any questions at info @improveitchicago.com.
URL:https://playground.catalystranch.com/event/improve-it-2018-q4-business-improv-workshop/
LOCATION:Catalyst Ranch\,  656 W Randolph St\, Chicago\, IL\, 60661\, United States
CATEGORIES:improve it!
ATTACH;FMTTYPE=image/png:https://playground.catalystranch.com/wp-content/uploads/2018/09/Ignite-Wordpress-Feat-Image-1.png
END:VEVENT
BEGIN:VEVENT
DTSTART;TZID=UTC:20180619T180000
DTEND;TZID=UTC:20180619T200000
DTSTAMP:20260423T023221
CREATED:20180612T022849Z
LAST-MODIFIED:20180612T022849Z
UID:15182-1529431200-1529438400@playground.catalystranch.com
SUMMARY:improve it! 2018 Q3 Business Improv Workshop
DESCRIPTION:Are you a business professional who would like to learn creative techniques to think more quickly on your feet during a meeting or at a presentation? Are you a leader or manager looking to enhance collaboration across your team? Are you the type of person who is always trying to be the best version of yourself? \nMost importantly\, are you the kind of person who likes…FUN?!?\nThen\, say no more! Come join improve it! for their 2018 Q3 Business Improv Workshop on Presentation Skills\, and you’ll learn the healing powers of improvisation for the workplace. \nThis energetic and unique workshop will highlight the impact that improvisational techniques can have on your communication skills\, and overall professional presentational presence! (Try saying that five times fast.) \nOver the course of two hours\, you will participate in an interactive lecture and series of improvisation-based exercises led by professional improvisers. By the end of the workshop we guarantee you will have learned and practiced how to: \n\nCommunicate ideas clearly to your peers\nTrust your first instinct rather than overthink\nReceive and respond to feedback more easily\nTune into your own brand of spontaneity!The workshop will be led by improve it!’s founder\, Erin Diehl\, and three of improve it!’s professional improvisers — all who have trained and performed at top theaters in Chicago and around the United States. The workshop will provide you with an intimate\, and hands-on experience to show you exactly what we do.\nWhat do they do? We’re glad you asked…\nimprove it! LLC is a Chicago-based company that provides high-energy\, laughter-filled corporate events & team building workshops that incorporate improvisation teams & techniques\, while donating a portion of proceeds to charity. To learn more about improve it! visit www.improveitchicago.com. \nSound good to you? Great! We’ll see you there.\nAdditional Details for improve it! 2018 Q3 Business Improv Workshop\, “Presentation Skills” \nTime: June 19th. Registration opens at 6:00 p.m. and the workshop will begin promptly at 6:15 p.m. \nContact the organizer: Please contact Erin Diehl\, founder of improve it! with any questions at info @improveitchicago.com.
URL:https://playground.catalystranch.com/event/improve-it-2018-q3-business-improv-workshop/
LOCATION:Catalyst Ranch\,  656 W Randolph St\, Chicago\, IL\, 60661\, United States
CATEGORIES:improve it!,Workshop
ATTACH;FMTTYPE=image/jpeg:https://playground.catalystranch.com/wp-content/uploads/2017/04/Improveit-17.02.28-0242-large.jpg
END:VEVENT
BEGIN:VEVENT
DTSTART;TZID=UTC:20180413T080000
DTEND;TZID=UTC:20180413T103000
DTSTAMP:20260423T023222
CREATED:20180306T235604Z
LAST-MODIFIED:20180306T235604Z
UID:14957-1523606400-1523615400@playground.catalystranch.com
SUMMARY:improve it! 2018 Q2 Business Improv Workshop
DESCRIPTION:Are you a business professional who would like to learn creative techniques to think more quickly on your feet during a meeting or at a presentation? Are you a leader or manager looking to enhance collaboration across your team? Are you the type of person who is always trying to be the best version of yourself? \nMost importantly\, are you the kind of person who likes…FUN?!?\nThen\, say no more! Come join improve it! in our 2018 Q2 Business Improv Workshop\, and you’ll learn the healing powers of improvisation for the workplace. \nOur energetic and unique workshop will highlight the impact that improvisational techniques can have on your communication skills\, and overall professional presentational presence! (Try saying that five times fast.) \nOver the course of two hours\, you will participate in an interactive lecture and series of improvisation-based exercises led by professional improvisers. By the end of the workshop we guarantee you will have learned and practiced how to: \n\nCommunicate ideas clearly to your peers\nTrust your first instinct rather than overthink\nReceive and respond to feedback more easily\nTune into your own brand of spontaneity!\n\n \nThe workshop will be led by improve it!’s founder\, Erin Diehl\, and three of improve it!’s professional improvisers — all who have trained and performed at top theaters in Chicago and around the United States. The workshop will provide you with an intimate\, and hands-on experience to show you exactly what we do. \nWhat do we do? We’re glad you asked…\nimprove it! LLC is a Chicago-based company that provides high-energy\, laughter-filled corporate events & team building workshops that incorporate improvisation teams & techniques\, while donating a portion of proceeds to charity. To learn more about improve it! visit www.improveitchicago.com. \nSound good to you? Great! We’ll see you there.\nAdditional Details for improve it! 2018 Q2 Business Improv Workshop: \nTime: April 13th. Registration opens at 8:00 a.m. and the workshop will begin promptly at 8:15 a.m. \nContact the organizer: Please contact Erin Diehl\, founder of improve it! with any questions at info @improveitchicago.com.
URL:https://playground.catalystranch.com/event/improve-2018-q2-business-improv-workshop-2/
LOCATION:Catalyst Ranch\,  656 W Randolph St\, Chicago\, IL\, 60661\, United States
CATEGORIES:improve it!
ATTACH;FMTTYPE=image/png:https://playground.catalystranch.com/wp-content/uploads/2017/02/Facebook-Ad.png
END:VEVENT
BEGIN:VEVENT
DTSTART;TZID=UTC:20180213T180000
DTEND;TZID=UTC:20180213T200000
DTSTAMP:20260423T023222
CREATED:20171207T233851Z
LAST-MODIFIED:20171207T233851Z
UID:14520-1518544800-1518552000@playground.catalystranch.com
SUMMARY:improve it! 2018 Q1 Business Improv Workshop
DESCRIPTION:Are you a business professional who would like to learn creative techniques to think more quickly on your feet during a meeting or at a presentation? Are you a leader or manager looking to enhance collaboration across your team? Are you the type of person who is always trying to be the best version of yourself? \nMost importantly\, are you the kind of person who likes…FUN?!?\nThen\, say no more! Come join improve it! in our 2018 Q1 Business Improv Workshop\, and we’ll teach you the healing powers of improvisation for the workplace. \nOur energetic and unique workshop will highlight the impact that improvisational techniques can have on your communication skills\, and overall professional presentational presence! (Try saying that five times fast.) \nOver the course of two hours\, you will participate in an interactive lecture and series of improvisation-based exercises led by professional improvisers. By the end of the workshop we guarantee you will have learned and practiced how to: \n\nCommunicate ideas clearly to your peers\nTrust your first instinct rather than overthink\nReceive and respond to feedback more easily\nTune into your own brand of spontaneity!\n\n \nThe workshop will be led by improve it!’s founder\, Erin Diehl\, and three of improve it!’s professional improvisers — all who have trained and performed at top theaters in Chicago and around the United States. The workshop will provide you with an intimate\, and hands-on experience to show you exactly what we do. \nWhat do we do? We’re glad you asked…\nimprove it! LLC is a Chicago-based company that provides high-energy\, laughter-filled corporate events & team building workshops that incorporate improvisation teams & techniques\, while donating a portion of proceeds to charity. To learn more about improve it! visit www.improveitchicago.com. \nSound good to you? Great! We’ll see you there.\nAdditional Details for improve it! 2018 Q1 Business Improv Workshop: \nTime: February 13th\, Registration opens at 6:00 p.m. and the workshop will begin promptly at 6:15 p.m. \nContact the organizer: Please contact Erin Diehl\, founder of improve it! with any questions at info @improveitchicago.com.
URL:https://playground.catalystranch.com/event/improve-2018-q1-business-improv-workshop/
LOCATION:Catalyst Ranch\,  656 W Randolph St\, Chicago\, IL\, 60661\, United States
CATEGORIES:improve it!,Workshop
ATTACH;FMTTYPE=image/png:https://playground.catalystranch.com/wp-content/uploads/2017/02/Twitter-and-LinkedIn-Ad.png
END:VEVENT
BEGIN:VEVENT
DTSTART;TZID=UTC:20180213T180000
DTEND;TZID=UTC:20180213T200000
DTSTAMP:20260423T023222
CREATED:20171207T233851Z
LAST-MODIFIED:20171207T233851Z
UID:14950-1518544800-1518552000@playground.catalystranch.com
SUMMARY:improve it! 2018 Q1 Business Improv Workshop
DESCRIPTION:Are you a business professional who would like to learn creative techniques to think more quickly on your feet during a meeting or at a presentation? Are you a leader or manager looking to enhance collaboration across your team? Are you the type of person who is always trying to be the best version of yourself? \nMost importantly\, are you the kind of person who likes…FUN?!?\nThen\, say no more! Come join improve it! in our 2018 Q1 Business Improv Workshop\, and we’ll teach you the healing powers of improvisation for the workplace. \nOur energetic and unique workshop will highlight the impact that improvisational techniques can have on your communication skills\, and overall professional presentational presence! (Try saying that five times fast.) \nOver the course of two hours\, you will participate in an interactive lecture and series of improvisation-based exercises led by professional improvisers. By the end of the workshop we guarantee you will have learned and practiced how to: \n\nCommunicate ideas clearly to your peers\nTrust your first instinct rather than overthink\nReceive and respond to feedback more easily\nTune into your own brand of spontaneity!\n\n \nThe workshop will be led by improve it!’s founder\, Erin Diehl\, and three of improve it!’s professional improvisers — all who have trained and performed at top theaters in Chicago and around the United States. The workshop will provide you with an intimate\, and hands-on experience to show you exactly what we do. \nWhat do we do? We’re glad you asked…\nimprove it! LLC is a Chicago-based company that provides high-energy\, laughter-filled corporate events & team building workshops that incorporate improvisation teams & techniques\, while donating a portion of proceeds to charity. To learn more about improve it! visit www.improveitchicago.com. \nSound good to you? Great! We’ll see you there.\nAdditional Details for improve it! 2018 Q1 Business Improv Workshop: \nTime: February 13th\, Registration opens at 6:00 p.m. and the workshop will begin promptly at 6:15 p.m. \nContact the organizer: Please contact Erin Diehl\, founder of improve it! with any questions at info @improveitchicago.com.
URL:https://playground.catalystranch.com/event/improve-2018-q1-business-improv-workshop-2/
LOCATION:Catalyst Ranch\,  656 W Randolph St\, Chicago\, IL\, 60661\, United States
CATEGORIES:improve it!,Workshop
ATTACH;FMTTYPE=image/png:https://playground.catalystranch.com/wp-content/uploads/2017/02/Twitter-and-LinkedIn-Ad.png
END:VEVENT
END:VCALENDAR