BEGIN:VCALENDAR
VERSION:2.0
PRODID:-//Catalyst Ranch - ECPv6.15.17.1//NONSGML v1.0//EN
CALSCALE:GREGORIAN
METHOD:PUBLISH
X-ORIGINAL-URL:https://playground.catalystranch.com
X-WR-CALDESC:Events for Catalyst Ranch
REFRESH-INTERVAL;VALUE=DURATION:PT1H
X-Robots-Tag:noindex
X-PUBLISHED-TTL:PT1H
BEGIN:VTIMEZONE
TZID:America/Chicago
BEGIN:DAYLIGHT
TZOFFSETFROM:-0600
TZOFFSETTO:-0500
TZNAME:CDT
DTSTART:20180311T080000
END:DAYLIGHT
BEGIN:STANDARD
TZOFFSETFROM:-0500
TZOFFSETTO:-0600
TZNAME:CST
DTSTART:20181104T070000
END:STANDARD
BEGIN:DAYLIGHT
TZOFFSETFROM:-0600
TZOFFSETTO:-0500
TZNAME:CDT
DTSTART:20190310T080000
END:DAYLIGHT
BEGIN:STANDARD
TZOFFSETFROM:-0500
TZOFFSETTO:-0600
TZNAME:CST
DTSTART:20191103T070000
END:STANDARD
BEGIN:DAYLIGHT
TZOFFSETFROM:-0600
TZOFFSETTO:-0500
TZNAME:CDT
DTSTART:20200308T080000
END:DAYLIGHT
BEGIN:STANDARD
TZOFFSETFROM:-0500
TZOFFSETTO:-0600
TZNAME:CST
DTSTART:20201101T070000
END:STANDARD
BEGIN:DAYLIGHT
TZOFFSETFROM:-0600
TZOFFSETTO:-0500
TZNAME:CDT
DTSTART:20210314T080000
END:DAYLIGHT
BEGIN:STANDARD
TZOFFSETFROM:-0500
TZOFFSETTO:-0600
TZNAME:CST
DTSTART:20211107T070000
END:STANDARD
BEGIN:DAYLIGHT
TZOFFSETFROM:-0600
TZOFFSETTO:-0500
TZNAME:CDT
DTSTART:20220313T080000
END:DAYLIGHT
BEGIN:STANDARD
TZOFFSETFROM:-0500
TZOFFSETTO:-0600
TZNAME:CST
DTSTART:20221106T070000
END:STANDARD
BEGIN:DAYLIGHT
TZOFFSETFROM:-0600
TZOFFSETTO:-0500
TZNAME:CDT
DTSTART:20230312T080000
END:DAYLIGHT
BEGIN:STANDARD
TZOFFSETFROM:-0500
TZOFFSETTO:-0600
TZNAME:CST
DTSTART:20231105T070000
END:STANDARD
BEGIN:DAYLIGHT
TZOFFSETFROM:-0600
TZOFFSETTO:-0500
TZNAME:CDT
DTSTART:20240310T080000
END:DAYLIGHT
BEGIN:STANDARD
TZOFFSETFROM:-0500
TZOFFSETTO:-0600
TZNAME:CST
DTSTART:20241103T070000
END:STANDARD
BEGIN:DAYLIGHT
TZOFFSETFROM:-0600
TZOFFSETTO:-0500
TZNAME:CDT
DTSTART:20250309T080000
END:DAYLIGHT
BEGIN:STANDARD
TZOFFSETFROM:-0500
TZOFFSETTO:-0600
TZNAME:CST
DTSTART:20251102T070000
END:STANDARD
END:VTIMEZONE
BEGIN:VTIMEZONE
TZID:UTC
BEGIN:STANDARD
TZOFFSETFROM:+0000
TZOFFSETTO:+0000
TZNAME:UTC
DTSTART:20160101T000000
END:STANDARD
END:VTIMEZONE
BEGIN:VEVENT
DTSTART;VALUE=DATE:20241021
DTEND;VALUE=DATE:20241123
DTSTAMP:20260422T202605
CREATED:20241024T155101Z
LAST-MODIFIED:20241101T175323Z
UID:31905-1729468800-1732319999@playground.catalystranch.com
SUMMARY:Catalyst Ranch's 22nd Anniversary Fundraiser - for Greater Chicago Food Depository
DESCRIPTION:Help us combat hunger to ring in Catalyst Ranch’s 22nd Anniversary!\nIn honor of our big TWO-TWO\, every donation we collect will go TWICE AS FAR.\nWe’re celebrating 22 years of providing creative space for connection and innovation\, and our Anniversary is our favorite occasion to extend the good will to our community. \n			\n				\n				\n				\n				\n				This year\, we’re holding this *virtual food drive* for the Greater Chicago Food Depository. This organization is very dear to us because they support our Chicago and Cook County neighbors in need with resources to end hunger and reduce poverty. \n			\n				Donate now\n			\n				\n				\n				\n				\n				Why you should donate:\n⭐ – Every $1 donated helps provide 3 meals. \n⭐ – Your impact will be DOUBLED with our Anniversary pledge to match every donation. \n⭐ – Your gift helps keep pantries and programs across GCFD’s 800+ community partners stocked with fresh\, nutritious and culturally affirming foods such as produce and perishable items. \n⭐ – And as a thank you\, we’ll name you as a donor on our social media\, because your gift deserves celebration! \n			\n				Donate now\n			\n				\n				\n				\n				\n				About the Greater Chicago Food Depository\nThis organization has been fighting hunger and its causes since 1979. \nThe GCFD partners with a large network of food pantries\, soup kitchens\, shelters and programs to distribute food and resources for any of our neighbors facing hunger. \nIn addition to providing help to anyone in need\, they support and administer programs tailored towards specific populations. \nIn Spring of this year\, they completed a 38\,000 square-foot facility expansion\, including a prepared meal center with the capacity to create and distribute up to 10\,000 prepared meals daily. \n			\n				\n				\n				\n				\n				Thank you so much for 22 years of support for our business\, and for your consideration in helping us benefit the Greater Chicago Food Depository.  \n			\n				Donate now
URL:https://playground.catalystranch.com/event/catalyst-ranchs-22nd-anniversary-fundraiser-for-greater-chicago-food-depository/
LOCATION:Online
CATEGORIES:Fundraiser
ATTACH;FMTTYPE=image/gif:https://playground.catalystranch.com/wp-content/uploads/2024/10/Catalyst-Ranch-Anniversary-Fundraiser-2024-gif.gif
END:VEVENT
BEGIN:VEVENT
DTSTART;TZID=America/Chicago:20240418T180000
DTEND;TZID=America/Chicago:20240418T200000
DTSTAMP:20260422T202605
CREATED:20240418T013523Z
LAST-MODIFIED:20240418T042533Z
UID:31646-1713463200-1713470400@playground.catalystranch.com
SUMMARY:Housing Action Illinois: Toast to Housing Justice Benefit
DESCRIPTION:Housing Action Illinois returns to Catalyst Ranch for their 8th Annual Toast to Housing Justice benefit!\n			\n				\n				\n				\n				\n				From Housing Action Illinois: \n\nMake a toast to housing justice during Fair Housing Month at Housing Action’s eighth annual benefit. Join us for a fun evening of pizza\, beer\, music\, and friendly faces—and a chance to win great prizes at our silent auction. Best of all\, by attending\, you’ll support Housing Action’s work toward an Illinois where everyone has a good\, affordable place to call home. \n  \nTickets \n$40 ticket includes entrance\, pizza\, and drinks\, including soda and beer.* \n*Must be 21 or older to drink alcohol. \n\n\nFor more information\, click here for the event’s website.
URL:https://playground.catalystranch.com/event/housing-action-illinois-toast-to-housing-justice-benefit/
LOCATION:Catalyst Ranch\,  656 W Randolph St\, Chicago\, IL\, 60661\, United States
CATEGORIES:Fundraiser
ATTACH;FMTTYPE=image/png:https://playground.catalystranch.com/wp-content/uploads/2024/04/Housing-Action-Illinois-2024-Benefit.png
END:VEVENT
BEGIN:VEVENT
DTSTART;TZID=America/Chicago:20231105T100000
DTEND;TZID=America/Chicago:20231105T120000
DTSTAMP:20260422T202605
CREATED:20220429T204852Z
LAST-MODIFIED:20231010T225100Z
UID:30454-1699178400-1699185600@playground.catalystranch.com
SUMMARY:Jenny's Mingle - Brunch Fundraiser for Teen Heart Foundation
DESCRIPTION:Join the Jenny’s Mission community as they recognize their latest AED grant recipients and honor Jenny’s legacy of saving lives.\n  \n			\n				\n				\n				\n				\n				The Board of Directors of Jenny’s Mission cordially invite you to Jenny’s Mingle\, a brunch and mingle event recognizing the importance of AED placements and the inaugural recipients of our AED grants. \n			\n				\n				\n				\n				\n				The Jennifer Lynn Snyder Teen Heart Foundation\n\n\n\n\n\n			\n				\n				\n				\n				\n				JENNY’S MISSION: To reduce sudden cardiac death in youth by granting and installing publicly accessible AEDs on outdoor playing fields.
URL:https://playground.catalystranch.com/event/jennys-mingle-brunch-fundraiser-for-teen-heart-foundation/
LOCATION:Catalyst Ranch\,  656 W Randolph St\, Chicago\, IL\, 60661\, United States
CATEGORIES:Fundraiser
ATTACH;FMTTYPE=image/png:https://playground.catalystranch.com/wp-content/uploads/2022/04/Jennys-Mingle-2023-Teen-Heart-Foundation-b.png
END:VEVENT
BEGIN:VEVENT
DTSTART;TZID=America/Chicago:20221008T180000
DTEND;TZID=America/Chicago:20221008T210000
DTSTAMP:20260422T202605
CREATED:20220907T225416Z
LAST-MODIFIED:20220907T230435Z
UID:30560-1665252000-1665262800@playground.catalystranch.com
SUMMARY:Fiesta de Frida 2022 - Women's Justice League
DESCRIPTION:Fiesta de Frida\nThe annual event from Women’s Justice League benefiting the fight against domestic abuse.\nFiesta de Frida is back for a special October edition in honor of Domestic Violence Awareness Month!  \nJoin us for a unique mixed media art project as we re-create Frida Kahlo’s “Unos Cuantos Piquetitos”: \nArguably one of her most evocative works\, the painting depicts a gravely injured woman lying on blood stained sheets\, overlooked by a looming male figure. Frida Kahlo painted this after reading of a drunken man who had stabbed his girlfriend 22 times to death. He told the judge: “But I only gave her a few small nips.” This is among her goriest work. At the time this painting was produced\, Frida had uncovered her husband\, Diego Rivera\, was having an affair with her sister. Blood-red paint drips out of the picture\, on to the frame. Yet the painting is small in size with delicate details. Kahlo juxtaposed pretty details – doves\, a lace pillow – with shocking violence. This mix of the macabre and ironic\, intimate and gory\, showcases intimate partner violence in every way. \nSpecial performance by Las Cartas de Frida honoring domestic violence survivors. Las Cartas de Frida has been empowering women in the Chicago area through writing\, music\, art\, and dance. Inspired by letters written by Frida Kahlo to her husband Diego Rivera from 1929 until her death\, Norbella Aguilar will read letters from survivors\, perform an interpretive dance\, and guide VIP ticket holders through a one-of-a-kind writing workshop. \nAll guests must be 21 and over – tickets include a complimentary alcoholic beverage. All proceeds benefit the Women’s Justice League fighting domestic violence.
URL:https://playground.catalystranch.com/event/fiesta-de-frida-2022-womens-justice-league/
LOCATION:Catalyst Ranch\,  656 W Randolph St\, Chicago\, IL\, 60661\, United States
CATEGORIES:Experiential,Fundraiser,Workshop
ATTACH;FMTTYPE=image/png:https://playground.catalystranch.com/wp-content/uploads/2022/09/fiesta-de-frida-2022b.png
END:VEVENT
BEGIN:VEVENT
DTSTART;TZID=America/Chicago:20190518T140000
DTEND;TZID=America/Chicago:20190518T163000
DTSTAMP:20260422T202605
CREATED:20190507T220401Z
LAST-MODIFIED:20190508T195502Z
UID:16846-1558188000-1558197000@playground.catalystranch.com
SUMMARY:Surge for Water: Break the Barriers Tea Party
DESCRIPTION:Surge for Water hosts an afternoon tea party to promote women’s health and sisterhood. This is a FREE event\, and attendees have the opportunity to be fundraisers. \nBreak the Barriers: a Women’s Wellness Event\nSurge for Water is a nonprofit organization which invests in communities around the globe: through safe water and sanitation solutions to help end the cycle of poverty\, and by delivering women’s health and hygiene education to empower women and girls. \nJoin us for a day that changes the way you think about women’s health and sisterhood. Feel the empowerment! \n\n\n\nSurge for Water’s afternoon tea party will include:\n\nengaging conversations\ninsights into self-care and wellness\nopportunities for guided movement and mindfulness\nan expressive interactive art session\n\nCommit to truly breaking barriers.\nSaturday\, May 18th  2 – 4:30 pm\nCatalyst Ranch\n656 W Randolph St.\, Ste 3W\, Chicago\, IL 60661 \nThank you to Surge’s Sponsors:\n\nSpaRitual\nCatalyst Ranch\nHonest Tea\n\nThank you to Surge’s Partners:\n\nJubilant\nPhotoserve\nThe Simple Good\nTiny Space to Breathe\n\n \n\n  \n\nLearn more about Chicago’s Most Creative Meeting and Event Space Catalyst Ranch!
URL:https://playground.catalystranch.com/event/surge-for-water-break-the-barriers-tea-party/
LOCATION:Catalyst Ranch\,  656 W Randolph St\, Chicago\, IL\, 60661\, United States
CATEGORIES:Fundraiser,Networking,Workshop
ATTACH;FMTTYPE=image/jpeg:https://playground.catalystranch.com/wp-content/uploads/2019/05/58378640_2172979936089251_1825937854778310656_o-1.jpg
END:VEVENT
BEGIN:VEVENT
DTSTART;TZID=UTC:20170520T200000
DTEND;TZID=UTC:20170521T000000
DTSTAMP:20260422T202605
CREATED:20170505T212651Z
LAST-MODIFIED:20170505T212651Z
UID:14894-1495310400-1495324800@playground.catalystranch.com
SUMMARY:Rebellious Magazine's Annual Red & Wild Feminist Prom Fundraiser
DESCRIPTION:Did you skip your high school prom? Did you go & hate it?\nCreate some new prom memories at the most #Rebellious party in town!\nWe’ll have all of the best parts of prom — music\, dancing\, party pics — but with booze! And fabulous raffle prizes.\nDress up\, dress down\, wear what you want. Come alone\, bring your boo or your crew. All are welcome!\nProceeds support independent\, woman-owned media in Chicago.
URL:https://playground.catalystranch.com/event/rebellious-magazines-annual-red-wild-feminist-prom-fundraiser-2/
LOCATION:Catalyst Ranch\,  656 W Randolph St\, Chicago\, IL\, 60661\, United States
CATEGORIES:Fundraiser
ATTACH;FMTTYPE=image/jpeg:https://playground.catalystranch.com/wp-content/uploads/2017/05/Rebellious-Prom-2017-wide.jpg
END:VEVENT
BEGIN:VEVENT
DTSTART;TZID=UTC:20170520T200000
DTEND;TZID=UTC:20170521T000000
DTSTAMP:20260422T202605
CREATED:20170505T212651Z
LAST-MODIFIED:20170505T212651Z
UID:14939-1495310400-1495324800@playground.catalystranch.com
SUMMARY:Rebellious Magazine's Annual Red & Wild Feminist Prom Fundraiser
DESCRIPTION:Did you skip your high school prom? Did you go & hate it?\nCreate some new prom memories at the most #Rebellious party in town!\nWe’ll have all of the best parts of prom — music\, dancing\, party pics — but with booze! And fabulous raffle prizes.\nDress up\, dress down\, wear what you want. Come alone\, bring your boo or your crew. All are welcome!\nProceeds support independent\, woman-owned media in Chicago.
URL:https://playground.catalystranch.com/event/rebellious-magazines-annual-red-wild-feminist-prom-fundraiser-3/
LOCATION:Catalyst Ranch\,  656 W Randolph St\, Chicago\, IL\, 60661\, United States
CATEGORIES:Fundraiser
ATTACH;FMTTYPE=image/jpeg:https://playground.catalystranch.com/wp-content/uploads/2017/05/Rebellious-Prom-2017-wide.jpg
END:VEVENT
BEGIN:VEVENT
DTSTART;TZID=UTC:20170520T200000
DTEND;TZID=UTC:20170521T000000
DTSTAMP:20260422T202605
CREATED:20170505T212651Z
LAST-MODIFIED:20170505T212651Z
UID:14206-1495310400-1495324800@playground.catalystranch.com
SUMMARY:Rebellious Magazine's Annual Red & Wild Feminist Prom Fundraiser
DESCRIPTION:Did you skip your high school prom? Did you go & hate it?\nCreate some new prom memories at the most #Rebellious party in town!\nWe’ll have all of the best parts of prom — music\, dancing\, party pics — but with booze! And fabulous raffle prizes.\nDress up\, dress down\, wear what you want. Come alone\, bring your boo or your crew. All are welcome!\nProceeds support independent\, woman-owned media in Chicago.
URL:https://playground.catalystranch.com/event/rebellious-magazines-annual-red-wild-feminist-prom-fundraiser/
LOCATION:Catalyst Ranch\,  656 W Randolph St\, Chicago\, IL\, 60661\, United States
CATEGORIES:Fundraiser
ATTACH;FMTTYPE=image/jpeg:https://playground.catalystranch.com/wp-content/uploads/2017/05/Rebellious-Prom-2017-wide.jpg
END:VEVENT
BEGIN:VEVENT
DTSTART;TZID=UTC:20170227T200000
DTEND;TZID=UTC:20170227T230000
DTSTAMP:20260422T202605
CREATED:20170131T213846Z
LAST-MODIFIED:20170131T213846Z
UID:14926-1488225600-1488236400@playground.catalystranch.com
SUMMARY:TIME Salon: The Plagiarists Fundraiser
DESCRIPTION:The Plagiarists’ mission is to steal from literature\, visual art\, history\, and the culture at large to create new creative expression that finds the familiar in the strange\, the unique in the commonplace\, and ultimately enlarges the world. Plagiarist Salons are another way we put our theory into practice\, providing a forum for artists to share their work and ideas with one another. They occur twice a year\, with a single curator assembling group of artists creating a variety of works around a theme that relates to our season. Past salons have featured short plays\, full-length readings\, songs\, dances\, puppet shows\, radio plays\, readings of comic books\, essays\, a talk show\, even the pilot for Christopher Piatt’s Paper Machete. This salon focuses on our season’s theme\, TIME: The Beginning And The End of Everything. Each performer is exploring an aspect of time: the past\, the present\, or the future in a kaleidoscope of genres and forms. \n  \nThe Salon is FREE and we will be offering snacks and refreshments for a suggested donation. Social Hour begins at 7\, with the main event starting at 8:00. \n  \nThe Plagiarists’ manifesto is “The Ecstasy of Influence\,” an essay by Jonathan Lethem about cultural ownership and artistic influence which articulates our ideals and ideas about art and creation. We believe that art is a gift given to its audience and that drawing on those gifts to make your own work is how the artistic creation process works. We select our projects as a group\, write much of our work collaboratively\, and encourage collaborators to have a voice in its development.
URL:https://playground.catalystranch.com/event/time-salon-plagiarists-fundraiser-3/
LOCATION:Catalyst Ranch\,  656 W Randolph St\, Chicago\, IL\, 60661\, United States
CATEGORIES:Fundraiser
ATTACH;FMTTYPE=image/jpeg:https://playground.catalystranch.com/wp-content/uploads/2017/01/Plagiarists-Retreat-2017.jpg
END:VEVENT
BEGIN:VEVENT
DTSTART;TZID=UTC:20170227T200000
DTEND;TZID=UTC:20170227T230000
DTSTAMP:20260422T202605
CREATED:20170131T213846Z
LAST-MODIFIED:20170201T044639Z
UID:13431-1488225600-1488236400@playground.catalystranch.com
SUMMARY:TIME Salon: The Plagiarists Fundraiser
DESCRIPTION:The Plagiarists’ mission is to steal from literature\, visual art\, history\, and the culture at large to create new creative expression that finds the familiar in the strange\, the unique in the commonplace\, and ultimately enlarges the world. Plagiarist Salons are another way we put our theory into practice\, providing a forum for artists to share their work and ideas with one another. They occur twice a year\, with a single curator assembling group of artists creating a variety of works around a theme that relates to our season. Past salons have featured short plays\, full-length readings\, songs\, dances\, puppet shows\, radio plays\, readings of comic books\, essays\, a talk show\, even the pilot for Christopher Piatt’s Paper Machete. This salon focuses on our season’s theme\, TIME: The Beginning And The End of Everything. Each performer is exploring an aspect of time: the past\, the present\, or the future in a kaleidoscope of genres and forms. \n  \nThe Salon is FREE and we will be offering snacks and refreshments for a suggested donation. Social Hour begins at 7\, with the main event starting at 8:00. \n  \nThe Plagiarists’ manifesto is “The Ecstasy of Influence\,” an essay by Jonathan Lethem about cultural ownership and artistic influence which articulates our ideals and ideas about art and creation. We believe that art is a gift given to its audience and that drawing on those gifts to make your own work is how the artistic creation process works. We select our projects as a group\, write much of our work collaboratively\, and encourage collaborators to have a voice in its development.
URL:https://playground.catalystranch.com/event/time-salon-plagiarists-fundraiser/
LOCATION:Catalyst Ranch\,  656 W Randolph St\, Chicago\, IL\, 60661\, United States
CATEGORIES:Fundraiser
ATTACH;FMTTYPE=image/jpeg:https://playground.catalystranch.com/wp-content/uploads/2017/01/Plagiarists-Retreat-2017.jpg
END:VEVENT
BEGIN:VEVENT
DTSTART;TZID=UTC:20170227T200000
DTEND;TZID=UTC:20170227T230000
DTSTAMP:20260422T202605
CREATED:20170131T213846Z
LAST-MODIFIED:20170131T213846Z
UID:14881-1488225600-1488236400@playground.catalystranch.com
SUMMARY:TIME Salon: The Plagiarists Fundraiser
DESCRIPTION:The Plagiarists’ mission is to steal from literature\, visual art\, history\, and the culture at large to create new creative expression that finds the familiar in the strange\, the unique in the commonplace\, and ultimately enlarges the world. Plagiarist Salons are another way we put our theory into practice\, providing a forum for artists to share their work and ideas with one another. They occur twice a year\, with a single curator assembling group of artists creating a variety of works around a theme that relates to our season. Past salons have featured short plays\, full-length readings\, songs\, dances\, puppet shows\, radio plays\, readings of comic books\, essays\, a talk show\, even the pilot for Christopher Piatt’s Paper Machete. This salon focuses on our season’s theme\, TIME: The Beginning And The End of Everything. Each performer is exploring an aspect of time: the past\, the present\, or the future in a kaleidoscope of genres and forms. \n  \nThe Salon is FREE and we will be offering snacks and refreshments for a suggested donation. Social Hour begins at 7\, with the main event starting at 8:00. \n  \nThe Plagiarists’ manifesto is “The Ecstasy of Influence\,” an essay by Jonathan Lethem about cultural ownership and artistic influence which articulates our ideals and ideas about art and creation. We believe that art is a gift given to its audience and that drawing on those gifts to make your own work is how the artistic creation process works. We select our projects as a group\, write much of our work collaboratively\, and encourage collaborators to have a voice in its development.
URL:https://playground.catalystranch.com/event/time-salon-plagiarists-fundraiser-2/
LOCATION:Catalyst Ranch\,  656 W Randolph St\, Chicago\, IL\, 60661\, United States
CATEGORIES:Fundraiser
ATTACH;FMTTYPE=image/jpeg:https://playground.catalystranch.com/wp-content/uploads/2017/01/Plagiarists-Retreat-2017.jpg
END:VEVENT
BEGIN:VEVENT
DTSTART;TZID=UTC:20170209T180000
DTEND;TZID=UTC:20170209T203000
DTSTAMP:20260422T202605
CREATED:20170118T010502Z
LAST-MODIFIED:20170118T010502Z
UID:14924-1486663200-1486672200@playground.catalystranch.com
SUMMARY:Las Mujeres de Cristo Rey Fundraiser
DESCRIPTION:Thursday\, February 9\, 2017\nfrom 6:00 to 8:30 p.m.\nCatalyst Ranch\n656 West Randolph Street\nChicago\, IL 60661 \n\nJoin us for an evening to support art education at Cristo Rey Jesuit High School. Guests will enjoy Mexican-influenced appetizers\, wine\, specialty cocktails\, and learn more about the school’s mission. \n$100 per person \nValet parking additional \n\nAll proceeds will support the Cristo Rey Art Fund to provide our students access to the arts. \n \n 
URL:https://playground.catalystranch.com/event/las-mujeres-de-cristo-rey-fundraiser-3/
LOCATION:Catalyst Ranch\,  656 W Randolph St\, Chicago\, IL\, 60661\, United States
CATEGORIES:Art show,Fundraiser
ATTACH;FMTTYPE=image/jpeg:https://playground.catalystranch.com/wp-content/uploads/2017/01/CRLasMujeres133.jpg
END:VEVENT
BEGIN:VEVENT
DTSTART;TZID=UTC:20170209T180000
DTEND;TZID=UTC:20170209T203000
DTSTAMP:20260422T202605
CREATED:20170118T010502Z
LAST-MODIFIED:20170118T010842Z
UID:13388-1486663200-1486672200@playground.catalystranch.com
SUMMARY:Las Mujeres de Cristo Rey Fundraiser
DESCRIPTION:Thursday\, February 9\, 2017\nfrom 6:00 to 8:30 p.m.\nCatalyst Ranch\n656 West Randolph Street\nChicago\, IL 60661 \n\nJoin us for an evening to support art education at Cristo Rey Jesuit High School. Guests will enjoy Mexican-influenced appetizers\, wine\, specialty cocktails\, and learn more about the school’s mission. \n$100 per person \nValet parking additional \n\nAll proceeds will support the Cristo Rey Art Fund to provide our students access to the arts. \n \n 
URL:https://playground.catalystranch.com/event/las-mujeres-de-cristo-rey-fundraiser/
LOCATION:Catalyst Ranch\,  656 W Randolph St\, Chicago\, IL\, 60661\, United States
CATEGORIES:Art show,Fundraiser
ATTACH;FMTTYPE=image/jpeg:https://playground.catalystranch.com/wp-content/uploads/2017/01/CRLasMujeres133.jpg
END:VEVENT
BEGIN:VEVENT
DTSTART;TZID=UTC:20170209T180000
DTEND;TZID=UTC:20170209T203000
DTSTAMP:20260422T202605
CREATED:20170118T010502Z
LAST-MODIFIED:20170118T010502Z
UID:14879-1486663200-1486672200@playground.catalystranch.com
SUMMARY:Las Mujeres de Cristo Rey Fundraiser
DESCRIPTION:Thursday\, February 9\, 2017\nfrom 6:00 to 8:30 p.m.\nCatalyst Ranch\n656 West Randolph Street\nChicago\, IL 60661 \n\nJoin us for an evening to support art education at Cristo Rey Jesuit High School. Guests will enjoy Mexican-influenced appetizers\, wine\, specialty cocktails\, and learn more about the school’s mission. \n$100 per person \nValet parking additional \n\nAll proceeds will support the Cristo Rey Art Fund to provide our students access to the arts. \n \n 
URL:https://playground.catalystranch.com/event/las-mujeres-de-cristo-rey-fundraiser-2/
LOCATION:Catalyst Ranch\,  656 W Randolph St\, Chicago\, IL\, 60661\, United States
CATEGORIES:Art show,Fundraiser
ATTACH;FMTTYPE=image/jpeg:https://playground.catalystranch.com/wp-content/uploads/2017/01/CRLasMujeres133.jpg
END:VEVENT
END:VCALENDAR