BEGIN:VCALENDAR
VERSION:2.0
PRODID:-//Catalyst Ranch - ECPv6.15.17.1//NONSGML v1.0//EN
CALSCALE:GREGORIAN
METHOD:PUBLISH
X-WR-CALNAME:Catalyst Ranch
X-ORIGINAL-URL:https://playground.catalystranch.com
X-WR-CALDESC:Events for Catalyst Ranch
REFRESH-INTERVAL;VALUE=DURATION:PT1H
X-Robots-Tag:noindex
X-PUBLISHED-TTL:PT1H
BEGIN:VTIMEZONE
TZID:America/Chicago
BEGIN:DAYLIGHT
TZOFFSETFROM:-0600
TZOFFSETTO:-0500
TZNAME:CDT
DTSTART:20220313T080000
END:DAYLIGHT
BEGIN:STANDARD
TZOFFSETFROM:-0500
TZOFFSETTO:-0600
TZNAME:CST
DTSTART:20221106T070000
END:STANDARD
BEGIN:DAYLIGHT
TZOFFSETFROM:-0600
TZOFFSETTO:-0500
TZNAME:CDT
DTSTART:20230312T080000
END:DAYLIGHT
BEGIN:STANDARD
TZOFFSETFROM:-0500
TZOFFSETTO:-0600
TZNAME:CST
DTSTART:20231105T070000
END:STANDARD
BEGIN:DAYLIGHT
TZOFFSETFROM:-0600
TZOFFSETTO:-0500
TZNAME:CDT
DTSTART:20240310T080000
END:DAYLIGHT
BEGIN:STANDARD
TZOFFSETFROM:-0500
TZOFFSETTO:-0600
TZNAME:CST
DTSTART:20241103T070000
END:STANDARD
END:VTIMEZONE
BEGIN:VTIMEZONE
TZID:UTC
BEGIN:STANDARD
TZOFFSETFROM:+0000
TZOFFSETTO:+0000
TZNAME:UTC
DTSTART:20150101T000000
END:STANDARD
END:VTIMEZONE
BEGIN:VEVENT
DTSTART;TZID=America/Chicago:20231109T200000
DTEND;TZID=America/Chicago:20231109T213000
DTSTAMP:20260425T071902
CREATED:20230322T204412Z
LAST-MODIFIED:20231109T215319Z
UID:31136-1699560000-1699565400@playground.catalystranch.com
SUMMARY:Stand Up Comedy: Run The Light
DESCRIPTION:Run The Light\nStand Up Comedy Show\nNovember 9 show: POSTPONED \nRun The Light is a monthly comedy showcase independently produced by local Chicago comics Maggie Burke\, Christi Turner\, and Ben Gerber. \n			\n				\n				\n				\n				\n				\n			\n				\n				\n				\n				\n				\nFrom Run The Light:\n\nRun The Light is an independent comedy showcase put on in the West Loop. Our shows are monthly and run by local Chicago comics Maggie Burke\, Christi Turner\, and Ben Gerber. The show is approximately 90 minutes in length and BYOB. \nSeats must be reserved prior to attending all shows. We do not allow walk ups. This ensures that we are able set up our venue with adequate seating prior to the show. \nIf you have any questions feel free to send us an email or reach out via direct message on our Instagram page. We look forward to seeing you at a show soon!
URL:https://playground.catalystranch.com/event/stand-up-comedy-run-the-light/
LOCATION:Catalyst Ranch\,  656 W Randolph St\, Chicago\, IL\, 60661\, United States
CATEGORIES:Comedy Show
ATTACH;FMTTYPE=image/png:https://playground.catalystranch.com/wp-content/uploads/2023/03/Run-The-Light-stand-up-comedy-Catalyst-Ranch.png
END:VEVENT
BEGIN:VEVENT
DTSTART;TZID=UTC:20170423T150000
DTEND;TZID=UTC:20170423T173000
DTSTAMP:20260425T071902
CREATED:20170317T225208Z
LAST-MODIFIED:20170317T225208Z
UID:14889-1492959600-1492968600@playground.catalystranch.com
SUMMARY:How The Beatles Nearly Ruined My Life… and David Bowie Saved It
DESCRIPTION:  \nHow The Beatles Nearly Ruined My Life…\nand David Bowie Saved It\n Written and Performed by Ben Hollis \nwith musical support by John Siegle \nDirected by Paul Quinn \n  \nToo late to live the life you were meant to live? \n“Frick No!” says Ben Hollis. The eight-time Emmy-winner (Wild Chicago\, WTTW) and local TV legend makes his case in this high-energy musical revelation of honest comedy and original songs. \n“How The Beatles…” tells the story of how a chubby American kid obsessed with “being adored” satisfies his ridiculously self-centered desires — and overcomes them… with a little help in the 11th hour from the spirit of Ziggy Stardust himself. \nHilarious slides punctuate Hollis’s two-act tale\, providing cultural signposts along the way (e.g. Julie Newmar\, Black Sabbath and The Dave Clark Five.) \nBoomers will find it irresistible to reflect on their own journeys as chronicled by Hollis (roughly 1957 to 1996.) Plenty of Top 40 Hit earworms sweeten the mix too\, energetically performed by Hollis and musical collaborator John Siegle. \nThe songs and stories shared in this show cover many relatable life experiences: \nLusting after TV stars; being a fat kid; losing your virginity (but not enjoying it); falling in love (and feeling the pain); marrying the wrong person; going after a career for really stupid reasons; honestly facing your own bullshit; marrying the right person (even with kids from a previous marriage — and marrying her anyway); and finding the courage to go for what you really want. \nSeeing The Beatles chased by pretty\, screaming girls set up Ben Hollis for a life of narcissistic pursuits – and disappointments. But upon seeing the “David Bowie Is…” exhibit at the Museum of Contemporary Art in late 2014\, Hollis finally grasps Bowie’s message: “Fully embrace who you are. This may be your last dance!” \nDoes he succeed? You be the judge!
URL:https://playground.catalystranch.com/event/how-the-beatles-nearly-ruined-my-life-and-david-bowie-saved-it-2/
LOCATION:Catalyst Ranch\,  656 W Randolph St\, Chicago\, IL\, 60661\, United States
CATEGORIES:Comedy Show,Concert
ATTACH;FMTTYPE=image/jpeg:https://playground.catalystranch.com/wp-content/uploads/2017/03/BHwcHEADshotHIres-small.jpg
END:VEVENT
BEGIN:VEVENT
DTSTART;TZID=UTC:20170423T150000
DTEND;TZID=UTC:20170423T173000
DTSTAMP:20260425T071902
CREATED:20170317T225208Z
LAST-MODIFIED:20170317T225208Z
UID:14934-1492959600-1492968600@playground.catalystranch.com
SUMMARY:How The Beatles Nearly Ruined My Life… and David Bowie Saved It
DESCRIPTION:  \nHow The Beatles Nearly Ruined My Life…\nand David Bowie Saved It\n Written and Performed by Ben Hollis \nwith musical support by John Siegle \nDirected by Paul Quinn \n  \nToo late to live the life you were meant to live? \n“Frick No!” says Ben Hollis. The eight-time Emmy-winner (Wild Chicago\, WTTW) and local TV legend makes his case in this high-energy musical revelation of honest comedy and original songs. \n“How The Beatles…” tells the story of how a chubby American kid obsessed with “being adored” satisfies his ridiculously self-centered desires — and overcomes them… with a little help in the 11th hour from the spirit of Ziggy Stardust himself. \nHilarious slides punctuate Hollis’s two-act tale\, providing cultural signposts along the way (e.g. Julie Newmar\, Black Sabbath and The Dave Clark Five.) \nBoomers will find it irresistible to reflect on their own journeys as chronicled by Hollis (roughly 1957 to 1996.) Plenty of Top 40 Hit earworms sweeten the mix too\, energetically performed by Hollis and musical collaborator John Siegle. \nThe songs and stories shared in this show cover many relatable life experiences: \nLusting after TV stars; being a fat kid; losing your virginity (but not enjoying it); falling in love (and feeling the pain); marrying the wrong person; going after a career for really stupid reasons; honestly facing your own bullshit; marrying the right person (even with kids from a previous marriage — and marrying her anyway); and finding the courage to go for what you really want. \nSeeing The Beatles chased by pretty\, screaming girls set up Ben Hollis for a life of narcissistic pursuits – and disappointments. But upon seeing the “David Bowie Is…” exhibit at the Museum of Contemporary Art in late 2014\, Hollis finally grasps Bowie’s message: “Fully embrace who you are. This may be your last dance!” \nDoes he succeed? You be the judge!
URL:https://playground.catalystranch.com/event/how-the-beatles-nearly-ruined-my-life-and-david-bowie-saved-it-3/
LOCATION:Catalyst Ranch\,  656 W Randolph St\, Chicago\, IL\, 60661\, United States
CATEGORIES:Comedy Show,Concert
ATTACH;FMTTYPE=image/jpeg:https://playground.catalystranch.com/wp-content/uploads/2017/03/BHwcHEADshotHIres-small.jpg
END:VEVENT
BEGIN:VEVENT
DTSTART;TZID=UTC:20170423T150000
DTEND;TZID=UTC:20170423T173000
DTSTAMP:20260425T071902
CREATED:20170317T225208Z
LAST-MODIFIED:20170417T225836Z
UID:13590-1492959600-1492968600@playground.catalystranch.com
SUMMARY:How The Beatles Nearly Ruined My Life… and David Bowie Saved It
DESCRIPTION:  \nHow The Beatles Nearly Ruined My Life…\nand David Bowie Saved It\n Written and Performed by Ben Hollis \nwith musical support by John Siegle \nDirected by Paul Quinn \n  \nToo late to live the life you were meant to live? \n“Frick No!” says Ben Hollis. The eight-time Emmy-winner (Wild Chicago\, WTTW) and local TV legend makes his case in this high-energy musical revelation of honest comedy and original songs. \n“How The Beatles…” tells the story of how a chubby American kid obsessed with “being adored” satisfies his ridiculously self-centered desires — and overcomes them… with a little help in the 11th hour from the spirit of Ziggy Stardust himself. \nHilarious slides punctuate Hollis’s two-act tale\, providing cultural signposts along the way (e.g. Julie Newmar\, Black Sabbath and The Dave Clark Five.) \nBoomers will find it irresistible to reflect on their own journeys as chronicled by Hollis (roughly 1957 to 1996.) Plenty of Top 40 Hit earworms sweeten the mix too\, energetically performed by Hollis and musical collaborator John Siegle. \nThe songs and stories shared in this show cover many relatable life experiences: \nLusting after TV stars; being a fat kid; losing your virginity (but not enjoying it); falling in love (and feeling the pain); marrying the wrong person; going after a career for really stupid reasons; honestly facing your own bullshit; marrying the right person (even with kids from a previous marriage — and marrying her anyway); and finding the courage to go for what you really want. \nSeeing The Beatles chased by pretty\, screaming girls set up Ben Hollis for a life of narcissistic pursuits – and disappointments. But upon seeing the “David Bowie Is…” exhibit at the Museum of Contemporary Art in late 2014\, Hollis finally grasps Bowie’s message: “Fully embrace who you are. This may be your last dance!” \nDoes he succeed? You be the judge!
URL:https://playground.catalystranch.com/event/how-the-beatles-nearly-ruined-my-life-and-david-bowie-saved-it/
LOCATION:Catalyst Ranch\,  656 W Randolph St\, Chicago\, IL\, 60661\, United States
CATEGORIES:Comedy Show,Concert
ATTACH;FMTTYPE=image/jpeg:https://playground.catalystranch.com/wp-content/uploads/2017/03/BHwcHEADshotHIres-small.jpg
END:VEVENT
BEGIN:VEVENT
DTSTART;TZID=UTC:20161112T200000
DTEND;TZID=UTC:20161112T213000
DTSTAMP:20260425T071902
CREATED:20160930T212038Z
LAST-MODIFIED:20160930T212038Z
UID:14865-1478980800-1478986200@playground.catalystranch.com
SUMMARY:Ignite Theatre Presents the kates
DESCRIPTION:Presents \n \n  \nthe kates provide an intimate night of comedy different from anything you’ll see at a typical Chicago club or late night bar.  Our mission is to showcase talented and hilarious female identified performers by creating inclusive and positive environments; This encourages artists to express their comic point of view in unique and non-apologetic ways – From darkly amusing musical numbers\, storytelling\, the awkward art of clowning\, absurd solo performances\, and uproarious stand-up comedy\, the kates continue to crack up new audiences and ensure that loyal fans come back for more!\nthe kates provides unique opportunities to ladies in comedy\, and showcases talent from all backgrounds\,\nperspectives\, and cities around the US proving that women are equal in the eyes of comedy. \nthe kates is a platform that provides creative content\, comedic educational services and positive performance spaces for women. Females occupy minimal leadership roles in most industries\, the kates’ goal is to increase these numbers. the kates provide standup comedy classes to build female confidence\, showcase female students and performers to encourage unapologetic behavior and hone public speaking skills\, and create a community where women build self-worth while working together. the kates also works with teams of professional comedians\, filmmakers and content creators to help established brands reach a wider female demographic\, in innovative ways. Unlocking women’s voices with humor is not only key to their personal growth but will create stronger leadership and diversity across all industries; while hiring female comedians to collaborate with your brand will ensure you\nare representing women in your global marketing mission\, thereby increasing economic growth.\nStand-up comedy has been a rough road for women. Just ask anyone who’s been the only woman on a bill of male comedians or had to hold her own in an unfriendly room. But not only are women participating in a broad list of stand-up shows around the city\, more also are producing comedy shows with an eye to nurturing women comics. \nSponsored in part by  \n  \nClick the Kates logo for tickets! \n \n 
URL:https://playground.catalystranch.com/event/ignite-theatre-the-kates-2/
LOCATION:Catalyst Ranch\,  656 W Randolph St\, Chicago\, IL\, 60661\, United States
CATEGORIES:Comedy Show,Ignite Theatre
ATTACH;FMTTYPE=image/jpeg:https://playground.catalystranch.com/wp-content/uploads/2016/09/thekates-NEW-LOGO-2016-2.jpg
END:VEVENT
BEGIN:VEVENT
DTSTART;TZID=UTC:20161112T200000
DTEND;TZID=UTC:20161112T213000
DTSTAMP:20260425T071902
CREATED:20160930T212038Z
LAST-MODIFIED:20160930T212038Z
UID:14905-1478980800-1478986200@playground.catalystranch.com
SUMMARY:Ignite Theatre Presents the kates
DESCRIPTION:Presents \n \n  \nthe kates provide an intimate night of comedy different from anything you’ll see at a typical Chicago club or late night bar.  Our mission is to showcase talented and hilarious female identified performers by creating inclusive and positive environments; This encourages artists to express their comic point of view in unique and non-apologetic ways – From darkly amusing musical numbers\, storytelling\, the awkward art of clowning\, absurd solo performances\, and uproarious stand-up comedy\, the kates continue to crack up new audiences and ensure that loyal fans come back for more!\nthe kates provides unique opportunities to ladies in comedy\, and showcases talent from all backgrounds\,\nperspectives\, and cities around the US proving that women are equal in the eyes of comedy. \nthe kates is a platform that provides creative content\, comedic educational services and positive performance spaces for women. Females occupy minimal leadership roles in most industries\, the kates’ goal is to increase these numbers. the kates provide standup comedy classes to build female confidence\, showcase female students and performers to encourage unapologetic behavior and hone public speaking skills\, and create a community where women build self-worth while working together. the kates also works with teams of professional comedians\, filmmakers and content creators to help established brands reach a wider female demographic\, in innovative ways. Unlocking women’s voices with humor is not only key to their personal growth but will create stronger leadership and diversity across all industries; while hiring female comedians to collaborate with your brand will ensure you\nare representing women in your global marketing mission\, thereby increasing economic growth.\nStand-up comedy has been a rough road for women. Just ask anyone who’s been the only woman on a bill of male comedians or had to hold her own in an unfriendly room. But not only are women participating in a broad list of stand-up shows around the city\, more also are producing comedy shows with an eye to nurturing women comics. \nSponsored in part by  \n  \nClick the Kates logo for tickets! \n \n 
URL:https://playground.catalystranch.com/event/ignite-theatre-the-kates-3/
LOCATION:Catalyst Ranch\,  656 W Randolph St\, Chicago\, IL\, 60661\, United States
CATEGORIES:Comedy Show,Ignite Theatre
ATTACH;FMTTYPE=image/jpeg:https://playground.catalystranch.com/wp-content/uploads/2016/09/thekates-NEW-LOGO-2016-2.jpg
END:VEVENT
BEGIN:VEVENT
DTSTART;TZID=UTC:20161112T200000
DTEND;TZID=UTC:20161112T213000
DTSTAMP:20260425T071902
CREATED:20160930T212038Z
LAST-MODIFIED:20161024T231851Z
UID:12953-1478980800-1478986200@playground.catalystranch.com
SUMMARY:Ignite Theatre Presents the kates
DESCRIPTION:Presents \n \n  \nthe kates provide an intimate night of comedy different from anything you’ll see at a typical Chicago club or late night bar.  Our mission is to showcase talented and hilarious female identified performers by creating inclusive and positive environments; This encourages artists to express their comic point of view in unique and non-apologetic ways – From darkly amusing musical numbers\, storytelling\, the awkward art of clowning\, absurd solo performances\, and uproarious stand-up comedy\, the kates continue to crack up new audiences and ensure that loyal fans come back for more!\nthe kates provides unique opportunities to ladies in comedy\, and showcases talent from all backgrounds\,\nperspectives\, and cities around the US proving that women are equal in the eyes of comedy. \nthe kates is a platform that provides creative content\, comedic educational services and positive performance spaces for women. Females occupy minimal leadership roles in most industries\, the kates’ goal is to increase these numbers. the kates provide standup comedy classes to build female confidence\, showcase female students and performers to encourage unapologetic behavior and hone public speaking skills\, and create a community where women build self-worth while working together. the kates also works with teams of professional comedians\, filmmakers and content creators to help established brands reach a wider female demographic\, in innovative ways. Unlocking women’s voices with humor is not only key to their personal growth but will create stronger leadership and diversity across all industries; while hiring female comedians to collaborate with your brand will ensure you\nare representing women in your global marketing mission\, thereby increasing economic growth.\nStand-up comedy has been a rough road for women. Just ask anyone who’s been the only woman on a bill of male comedians or had to hold her own in an unfriendly room. But not only are women participating in a broad list of stand-up shows around the city\, more also are producing comedy shows with an eye to nurturing women comics. \nSponsored in part by  \n  \nClick the Kates logo for tickets! \n \n 
URL:https://playground.catalystranch.com/event/ignite-theatre-the-kates/
LOCATION:Catalyst Ranch\,  656 W Randolph St\, Chicago\, IL\, 60661\, United States
CATEGORIES:Comedy Show,Ignite Theatre
ATTACH;FMTTYPE=image/jpeg:https://playground.catalystranch.com/wp-content/uploads/2016/09/thekates-NEW-LOGO-2016-2.jpg
END:VEVENT
END:VCALENDAR