BEGIN:VCALENDAR
VERSION:2.0
PRODID:-//Catalyst Ranch - ECPv6.15.17.1//NONSGML v1.0//EN
CALSCALE:GREGORIAN
METHOD:PUBLISH
X-ORIGINAL-URL:https://playground.catalystranch.com
X-WR-CALDESC:Events for Catalyst Ranch
REFRESH-INTERVAL;VALUE=DURATION:PT1H
X-Robots-Tag:noindex
X-PUBLISHED-TTL:PT1H
BEGIN:VTIMEZONE
TZID:America/Chicago
BEGIN:DAYLIGHT
TZOFFSETFROM:-0600
TZOFFSETTO:-0500
TZNAME:CDT
DTSTART:20230312T080000
END:DAYLIGHT
BEGIN:STANDARD
TZOFFSETFROM:-0500
TZOFFSETTO:-0600
TZNAME:CST
DTSTART:20231105T070000
END:STANDARD
BEGIN:DAYLIGHT
TZOFFSETFROM:-0600
TZOFFSETTO:-0500
TZNAME:CDT
DTSTART:20240310T080000
END:DAYLIGHT
BEGIN:STANDARD
TZOFFSETFROM:-0500
TZOFFSETTO:-0600
TZNAME:CST
DTSTART:20241103T070000
END:STANDARD
BEGIN:DAYLIGHT
TZOFFSETFROM:-0600
TZOFFSETTO:-0500
TZNAME:CDT
DTSTART:20250309T080000
END:DAYLIGHT
BEGIN:STANDARD
TZOFFSETFROM:-0500
TZOFFSETTO:-0600
TZNAME:CST
DTSTART:20251102T070000
END:STANDARD
END:VTIMEZONE
BEGIN:VTIMEZONE
TZID:UTC
BEGIN:STANDARD
TZOFFSETFROM:+0000
TZOFFSETTO:+0000
TZNAME:UTC
DTSTART:20150101T000000
END:STANDARD
END:VTIMEZONE
BEGIN:VEVENT
DTSTART;TZID=America/Chicago:20240929T190000
DTEND;TZID=America/Chicago:20240929T210000
DTSTAMP:20260422T180431
CREATED:20240920T075452Z
LAST-MODIFIED:20240920T075453Z
UID:31857-1727636400-1727643600@playground.catalystranch.com
SUMMARY:Stop Motion Plant's Salon for experimental art
DESCRIPTION:Performance art cohort Stop Motion Plant brings their monthly Salon of new experimental works to Catalyst Ranch.\n			\n				\n				\n				\n				\n				Stop Motion Plant\, in their own words\, is a performance art company producing live theater that is personal and truthful. This company began collaborating while studying with the storied Chicago company The Neo-Futurists\, and in their three years of devising and producing\, they have been notably featured in American Theatre Magazine and Block Club Chicago. \nStop Motion Plant’s monthly Salon is their designated free space available to artists of myriad backgrounds and media for trying out new works with a receptive audience\, plus the option of receiving feedback from peers and attendees. \nFind more info on attending\, as well as for submitting your work for consideration\, at Stop Motion Plant’s Instagram. \n  \n			\n				More info for the Salon
URL:https://playground.catalystranch.com/event/stop-motion-plants-salon-for-experimental-art/
LOCATION:Catalyst Ranch\,  656 W Randolph St\, Chicago\, IL\, 60661\, United States
CATEGORIES:Art show,Performance
ATTACH;FMTTYPE=image/jpeg:https://playground.catalystranch.com/wp-content/uploads/2024/09/Stop-Plant-Motion-salon-sept-2024-at-Catalyst-Ranch.jpg
END:VEVENT
BEGIN:VEVENT
DTSTART;TZID=UTC:20170209T180000
DTEND;TZID=UTC:20170209T203000
DTSTAMP:20260422T180431
CREATED:20170118T010502Z
LAST-MODIFIED:20170118T010842Z
UID:13388-1486663200-1486672200@playground.catalystranch.com
SUMMARY:Las Mujeres de Cristo Rey Fundraiser
DESCRIPTION:Thursday\, February 9\, 2017\nfrom 6:00 to 8:30 p.m.\nCatalyst Ranch\n656 West Randolph Street\nChicago\, IL 60661 \n\nJoin us for an evening to support art education at Cristo Rey Jesuit High School. Guests will enjoy Mexican-influenced appetizers\, wine\, specialty cocktails\, and learn more about the school’s mission. \n$100 per person \nValet parking additional \n\nAll proceeds will support the Cristo Rey Art Fund to provide our students access to the arts. \n \n 
URL:https://playground.catalystranch.com/event/las-mujeres-de-cristo-rey-fundraiser/
LOCATION:Catalyst Ranch\,  656 W Randolph St\, Chicago\, IL\, 60661\, United States
CATEGORIES:Art show,Fundraiser
ATTACH;FMTTYPE=image/jpeg:https://playground.catalystranch.com/wp-content/uploads/2017/01/CRLasMujeres133.jpg
END:VEVENT
BEGIN:VEVENT
DTSTART;TZID=UTC:20170209T180000
DTEND;TZID=UTC:20170209T203000
DTSTAMP:20260422T180431
CREATED:20170118T010502Z
LAST-MODIFIED:20170118T010502Z
UID:14879-1486663200-1486672200@playground.catalystranch.com
SUMMARY:Las Mujeres de Cristo Rey Fundraiser
DESCRIPTION:Thursday\, February 9\, 2017\nfrom 6:00 to 8:30 p.m.\nCatalyst Ranch\n656 West Randolph Street\nChicago\, IL 60661 \n\nJoin us for an evening to support art education at Cristo Rey Jesuit High School. Guests will enjoy Mexican-influenced appetizers\, wine\, specialty cocktails\, and learn more about the school’s mission. \n$100 per person \nValet parking additional \n\nAll proceeds will support the Cristo Rey Art Fund to provide our students access to the arts. \n \n 
URL:https://playground.catalystranch.com/event/las-mujeres-de-cristo-rey-fundraiser-2/
LOCATION:Catalyst Ranch\,  656 W Randolph St\, Chicago\, IL\, 60661\, United States
CATEGORIES:Art show,Fundraiser
ATTACH;FMTTYPE=image/jpeg:https://playground.catalystranch.com/wp-content/uploads/2017/01/CRLasMujeres133.jpg
END:VEVENT
BEGIN:VEVENT
DTSTART;TZID=UTC:20170209T180000
DTEND;TZID=UTC:20170209T203000
DTSTAMP:20260422T180431
CREATED:20170118T010502Z
LAST-MODIFIED:20170118T010502Z
UID:14924-1486663200-1486672200@playground.catalystranch.com
SUMMARY:Las Mujeres de Cristo Rey Fundraiser
DESCRIPTION:Thursday\, February 9\, 2017\nfrom 6:00 to 8:30 p.m.\nCatalyst Ranch\n656 West Randolph Street\nChicago\, IL 60661 \n\nJoin us for an evening to support art education at Cristo Rey Jesuit High School. Guests will enjoy Mexican-influenced appetizers\, wine\, specialty cocktails\, and learn more about the school’s mission. \n$100 per person \nValet parking additional \n\nAll proceeds will support the Cristo Rey Art Fund to provide our students access to the arts. \n \n 
URL:https://playground.catalystranch.com/event/las-mujeres-de-cristo-rey-fundraiser-3/
LOCATION:Catalyst Ranch\,  656 W Randolph St\, Chicago\, IL\, 60661\, United States
CATEGORIES:Art show,Fundraiser
ATTACH;FMTTYPE=image/jpeg:https://playground.catalystranch.com/wp-content/uploads/2017/01/CRLasMujeres133.jpg
END:VEVENT
BEGIN:VEVENT
DTSTART;TZID=UTC:20160805T190000
DTEND;TZID=UTC:20160805T220000
DTSTAMP:20260422T180431
CREATED:20160714T010041Z
LAST-MODIFIED:20160716T021326Z
UID:12763-1470423600-1470434400@playground.catalystranch.com
SUMMARY:A Mixed Medium Art Show: Impressions of the World
DESCRIPTION:Enjoy an evening of artists showing mixed medium works\, which will also be available for purchase. Artists include: M. Samanatha (Water Based Oil Painting)\, Robert Pioch(Watercolor Painting)\, Alan Thompson-Wallace (Oil/Acrylic Painting & Pastel Drawing)\, Amy Spitzer (Oil/Watercolor Painting & Mixed Media)\, Linda Sweig (Mosaic Mixed Media)\, Jillian Marie Chapman (Photography)\, Rahmon Olugunna (Oil Painting)\, Kathie Huddleston (Fused Glass)\, A Punto/Regality Jewelry by Laurie Blair Zimelis (Gemstone Jewelry)\, & Dorit Jordan Dotan (Photography & Mixed Media). \nStart your night off in style with a signature cocktail provided by Copper Fiddle Distillery and hors d’oeuvres created by Heartfelt Catering. Be engaged in the creative process through live art by Davey Hines & Rachel Lechocki (Certified Yoga Teacher\, Art Educator\, Curator & Zhou B Artist).  Special live music performances by Janine Welch (Folk\, with a touch of Appalachia & New Orleans) and David M. Gaines (with Yuki Tasaka & Fredrick Weinstein is a multi-instrumentalist singer/songwriter\, who resembles artist like The Beatles\, Beck\, and Radiohead). \nThis event is 21+. \nTickets: $30 in advance\, $35 at the door (Bring proof of purchase at the door with ID. Cash only at the door. Limited number of tickets) Purchase tickets here \nParking: Indoor lot at 180 N. Jefferson Street (Entrance is on Lake Street between Jefferson & Des Plaines\, right next to the Subway Sandwich Shop – as Catalyst Ranch has a $10 validated parking good for 12 hours)
URL:https://playground.catalystranch.com/event/a-mixed-medium-art-show-impressions-of-the-world/
LOCATION:IL
CATEGORIES:Art show
ATTACH;FMTTYPE=image/jpeg:https://playground.catalystranch.com/wp-content/uploads/2016/07/Kopelman-painting.jpg
END:VEVENT
BEGIN:VEVENT
DTSTART;TZID=UTC:20160805T190000
DTEND;TZID=UTC:20160805T220000
DTSTAMP:20260422T180431
CREATED:20160714T010041Z
LAST-MODIFIED:20160714T010041Z
UID:14861-1470423600-1470434400@playground.catalystranch.com
SUMMARY:A Mixed Medium Art Show: Impressions of the World
DESCRIPTION:Enjoy an evening of artists showing mixed medium works\, which will also be available for purchase. Artists include: M. Samanatha (Water Based Oil Painting)\, Robert Pioch(Watercolor Painting)\, Alan Thompson-Wallace (Oil/Acrylic Painting & Pastel Drawing)\, Amy Spitzer (Oil/Watercolor Painting & Mixed Media)\, Linda Sweig (Mosaic Mixed Media)\, Jillian Marie Chapman (Photography)\, Rahmon Olugunna (Oil Painting)\, Kathie Huddleston (Fused Glass)\, A Punto/Regality Jewelry by Laurie Blair Zimelis (Gemstone Jewelry)\, & Dorit Jordan Dotan (Photography & Mixed Media). \nStart your night off in style with a signature cocktail provided by Copper Fiddle Distillery and hors d’oeuvres created by Heartfelt Catering. Be engaged in the creative process through live art by Davey Hines & Rachel Lechocki (Certified Yoga Teacher\, Art Educator\, Curator & Zhou B Artist).  Special live music performances by Janine Welch (Folk\, with a touch of Appalachia & New Orleans) and David M. Gaines (with Yuki Tasaka & Fredrick Weinstein is a multi-instrumentalist singer/songwriter\, who resembles artist like The Beatles\, Beck\, and Radiohead). \nThis event is 21+. \nTickets: $30 in advance\, $35 at the door (Bring proof of purchase at the door with ID. Cash only at the door. Limited number of tickets) Purchase tickets here \nParking: Indoor lot at 180 N. Jefferson Street (Entrance is on Lake Street between Jefferson & Des Plaines\, right next to the Subway Sandwich Shop – as Catalyst Ranch has a $10 validated parking good for 12 hours)
URL:https://playground.catalystranch.com/event/a-mixed-medium-art-show-impressions-of-the-world-2/
LOCATION:IL
CATEGORIES:Art show
ATTACH;FMTTYPE=image/jpeg:https://playground.catalystranch.com/wp-content/uploads/2016/07/Kopelman-painting.jpg
END:VEVENT
BEGIN:VEVENT
DTSTART;TZID=UTC:20160805T190000
DTEND;TZID=UTC:20160805T220000
DTSTAMP:20260422T180431
CREATED:20160714T010041Z
LAST-MODIFIED:20160714T010041Z
UID:14901-1470423600-1470434400@playground.catalystranch.com
SUMMARY:A Mixed Medium Art Show: Impressions of the World
DESCRIPTION:Enjoy an evening of artists showing mixed medium works\, which will also be available for purchase. Artists include: M. Samanatha (Water Based Oil Painting)\, Robert Pioch(Watercolor Painting)\, Alan Thompson-Wallace (Oil/Acrylic Painting & Pastel Drawing)\, Amy Spitzer (Oil/Watercolor Painting & Mixed Media)\, Linda Sweig (Mosaic Mixed Media)\, Jillian Marie Chapman (Photography)\, Rahmon Olugunna (Oil Painting)\, Kathie Huddleston (Fused Glass)\, A Punto/Regality Jewelry by Laurie Blair Zimelis (Gemstone Jewelry)\, & Dorit Jordan Dotan (Photography & Mixed Media). \nStart your night off in style with a signature cocktail provided by Copper Fiddle Distillery and hors d’oeuvres created by Heartfelt Catering. Be engaged in the creative process through live art by Davey Hines & Rachel Lechocki (Certified Yoga Teacher\, Art Educator\, Curator & Zhou B Artist).  Special live music performances by Janine Welch (Folk\, with a touch of Appalachia & New Orleans) and David M. Gaines (with Yuki Tasaka & Fredrick Weinstein is a multi-instrumentalist singer/songwriter\, who resembles artist like The Beatles\, Beck\, and Radiohead). \nThis event is 21+. \nTickets: $30 in advance\, $35 at the door (Bring proof of purchase at the door with ID. Cash only at the door. Limited number of tickets) Purchase tickets here \nParking: Indoor lot at 180 N. Jefferson Street (Entrance is on Lake Street between Jefferson & Des Plaines\, right next to the Subway Sandwich Shop – as Catalyst Ranch has a $10 validated parking good for 12 hours)
URL:https://playground.catalystranch.com/event/a-mixed-medium-art-show-impressions-of-the-world-3/
LOCATION:IL
CATEGORIES:Art show
ATTACH;FMTTYPE=image/jpeg:https://playground.catalystranch.com/wp-content/uploads/2016/07/Kopelman-painting.jpg
END:VEVENT
END:VCALENDAR